BEGIN:VCALENDAR
VERSION:2.0
PRODID:-//Lymm RFC - ECPv6.15.20//NONSGML v1.0//EN
CALSCALE:GREGORIAN
METHOD:PUBLISH
X-WR-CALNAME:Lymm RFC
X-ORIGINAL-URL:https://www.lymmrugby.co.uk
X-WR-CALDESC:Events for Lymm RFC
REFRESH-INTERVAL;VALUE=DURATION:PT1H
X-Robots-Tag:noindex
X-PUBLISHED-TTL:PT1H
BEGIN:VTIMEZONE
TZID:Europe/London
BEGIN:DAYLIGHT
TZOFFSETFROM:+0000
TZOFFSETTO:+0100
TZNAME:BST
DTSTART:20240331T010000
END:DAYLIGHT
BEGIN:STANDARD
TZOFFSETFROM:+0100
TZOFFSETTO:+0000
TZNAME:GMT
DTSTART:20241027T010000
END:STANDARD
BEGIN:DAYLIGHT
TZOFFSETFROM:+0000
TZOFFSETTO:+0100
TZNAME:BST
DTSTART:20250330T010000
END:DAYLIGHT
BEGIN:STANDARD
TZOFFSETFROM:+0100
TZOFFSETTO:+0000
TZNAME:GMT
DTSTART:20251026T010000
END:STANDARD
BEGIN:DAYLIGHT
TZOFFSETFROM:+0000
TZOFFSETTO:+0100
TZNAME:BST
DTSTART:20260329T010000
END:DAYLIGHT
BEGIN:STANDARD
TZOFFSETFROM:+0100
TZOFFSETTO:+0000
TZNAME:GMT
DTSTART:20261025T010000
END:STANDARD
END:VTIMEZONE
BEGIN:VEVENT
DTSTART;TZID=Europe/London:20251202T190000
DTEND;TZID=Europe/London:20251202T210000
DTSTAMP:20260424T103156
CREATED:20250610T113511Z
LAST-MODIFIED:20250812T102008Z
UID:21972-1764702000-1764709200@www.lymmrugby.co.uk
SUMMARY:Senior Rugby Team Training 2025/26 Season
DESCRIPTION:1st XV and 2nd XV Team Training
URL:https://www.lymmrugby.co.uk/event/senior-team-training-2025-26-season/2025-12-02/
LOCATION:Lymm RFC\, Crouchley Ln\, Lymm\, WA13 0AS\, United Kingdom
CATEGORIES:Rugby Training
ATTACH;FMTTYPE=image/jpeg:https://www.lymmrugby.co.uk/wp-content/uploads/2019/01/lymm_ball.jpg
ORGANIZER;CN="Adam Fletcher":MAILTO:DOR@LymmRugby.co.uk
END:VEVENT
BEGIN:VEVENT
DTSTART;TZID=Europe/London:20251204T190000
DTEND;TZID=Europe/London:20251204T210000
DTSTAMP:20260424T103156
CREATED:20250610T113511Z
LAST-MODIFIED:20250812T102009Z
UID:21973-1764874800-1764882000@www.lymmrugby.co.uk
SUMMARY:Senior Rugby Team Training 2025/26 Season
DESCRIPTION:1st XV and 2nd XV Team Training
URL:https://www.lymmrugby.co.uk/event/senior-team-training-2025-26-season/2025-12-04/
LOCATION:Lymm RFC\, Crouchley Ln\, Lymm\, WA13 0AS\, United Kingdom
CATEGORIES:Rugby Training
ATTACH;FMTTYPE=image/jpeg:https://www.lymmrugby.co.uk/wp-content/uploads/2019/01/lymm_ball.jpg
ORGANIZER;CN="Adam Fletcher":MAILTO:DOR@LymmRugby.co.uk
END:VEVENT
BEGIN:VEVENT
DTSTART;TZID=Europe/London:20251209T190000
DTEND;TZID=Europe/London:20251209T210000
DTSTAMP:20260424T103156
CREATED:20250610T113511Z
LAST-MODIFIED:20250812T102011Z
UID:21974-1765306800-1765314000@www.lymmrugby.co.uk
SUMMARY:Senior Rugby Team Training 2025/26 Season
DESCRIPTION:1st XV and 2nd XV Team Training
URL:https://www.lymmrugby.co.uk/event/senior-team-training-2025-26-season/2025-12-09/
LOCATION:Lymm RFC\, Crouchley Ln\, Lymm\, WA13 0AS\, United Kingdom
CATEGORIES:Rugby Training
ATTACH;FMTTYPE=image/jpeg:https://www.lymmrugby.co.uk/wp-content/uploads/2019/01/lymm_ball.jpg
ORGANIZER;CN="Adam Fletcher":MAILTO:DOR@LymmRugby.co.uk
END:VEVENT
BEGIN:VEVENT
DTSTART;TZID=Europe/London:20251211T190000
DTEND;TZID=Europe/London:20251211T210000
DTSTAMP:20260424T103156
CREATED:20250610T113511Z
LAST-MODIFIED:20250812T102014Z
UID:21975-1765479600-1765486800@www.lymmrugby.co.uk
SUMMARY:Senior Rugby Team Training 2025/26 Season
DESCRIPTION:1st XV and 2nd XV Team Training
URL:https://www.lymmrugby.co.uk/event/senior-team-training-2025-26-season/2025-12-11/
LOCATION:Lymm RFC\, Crouchley Ln\, Lymm\, WA13 0AS\, United Kingdom
CATEGORIES:Rugby Training
ATTACH;FMTTYPE=image/jpeg:https://www.lymmrugby.co.uk/wp-content/uploads/2019/01/lymm_ball.jpg
ORGANIZER;CN="Adam Fletcher":MAILTO:DOR@LymmRugby.co.uk
END:VEVENT
BEGIN:VEVENT
DTSTART;TZID=Europe/London:20251216T190000
DTEND;TZID=Europe/London:20251216T210000
DTSTAMP:20260424T103156
CREATED:20250610T113511Z
LAST-MODIFIED:20250812T102015Z
UID:21976-1765911600-1765918800@www.lymmrugby.co.uk
SUMMARY:Senior Rugby Team Training 2025/26 Season
DESCRIPTION:1st XV and 2nd XV Team Training
URL:https://www.lymmrugby.co.uk/event/senior-team-training-2025-26-season/2025-12-16/
LOCATION:Lymm RFC\, Crouchley Ln\, Lymm\, WA13 0AS\, United Kingdom
CATEGORIES:Rugby Training
ATTACH;FMTTYPE=image/jpeg:https://www.lymmrugby.co.uk/wp-content/uploads/2019/01/lymm_ball.jpg
ORGANIZER;CN="Adam Fletcher":MAILTO:DOR@LymmRugby.co.uk
END:VEVENT
BEGIN:VEVENT
DTSTART;TZID=Europe/London:20251218T190000
DTEND;TZID=Europe/London:20251218T210000
DTSTAMP:20260424T103156
CREATED:20250610T113511Z
LAST-MODIFIED:20250812T102016Z
UID:21977-1766084400-1766091600@www.lymmrugby.co.uk
SUMMARY:Senior Rugby Team Training 2025/26 Season
DESCRIPTION:1st XV and 2nd XV Team Training
URL:https://www.lymmrugby.co.uk/event/senior-team-training-2025-26-season/2025-12-18/
LOCATION:Lymm RFC\, Crouchley Ln\, Lymm\, WA13 0AS\, United Kingdom
CATEGORIES:Rugby Training
ATTACH;FMTTYPE=image/jpeg:https://www.lymmrugby.co.uk/wp-content/uploads/2019/01/lymm_ball.jpg
ORGANIZER;CN="Adam Fletcher":MAILTO:DOR@LymmRugby.co.uk
END:VEVENT
BEGIN:VEVENT
DTSTART;TZID=Europe/London:20251223T190000
DTEND;TZID=Europe/London:20251223T210000
DTSTAMP:20260424T103156
CREATED:20250610T113511Z
LAST-MODIFIED:20250812T102017Z
UID:21978-1766516400-1766523600@www.lymmrugby.co.uk
SUMMARY:Senior Rugby Team Training 2025/26 Season
DESCRIPTION:1st XV and 2nd XV Team Training
URL:https://www.lymmrugby.co.uk/event/senior-team-training-2025-26-season/2025-12-23/
LOCATION:Lymm RFC\, Crouchley Ln\, Lymm\, WA13 0AS\, United Kingdom
CATEGORIES:Rugby Training
ATTACH;FMTTYPE=image/jpeg:https://www.lymmrugby.co.uk/wp-content/uploads/2019/01/lymm_ball.jpg
ORGANIZER;CN="Adam Fletcher":MAILTO:DOR@LymmRugby.co.uk
END:VEVENT
BEGIN:VEVENT
DTSTART;TZID=Europe/London:20251225T190000
DTEND;TZID=Europe/London:20251225T210000
DTSTAMP:20260424T103156
CREATED:20250610T113511Z
LAST-MODIFIED:20250812T102018Z
UID:21979-1766689200-1766696400@www.lymmrugby.co.uk
SUMMARY:Senior Rugby Team Training 2025/26 Season
DESCRIPTION:1st XV and 2nd XV Team Training
URL:https://www.lymmrugby.co.uk/event/senior-team-training-2025-26-season/2025-12-25/
LOCATION:Lymm RFC\, Crouchley Ln\, Lymm\, WA13 0AS\, United Kingdom
CATEGORIES:Rugby Training
ATTACH;FMTTYPE=image/jpeg:https://www.lymmrugby.co.uk/wp-content/uploads/2019/01/lymm_ball.jpg
ORGANIZER;CN="Adam Fletcher":MAILTO:DOR@LymmRugby.co.uk
END:VEVENT
BEGIN:VEVENT
DTSTART;TZID=Europe/London:20251230T190000
DTEND;TZID=Europe/London:20251230T210000
DTSTAMP:20260424T103156
CREATED:20250610T113511Z
LAST-MODIFIED:20250812T102019Z
UID:21980-1767121200-1767128400@www.lymmrugby.co.uk
SUMMARY:Senior Rugby Team Training 2025/26 Season
DESCRIPTION:1st XV and 2nd XV Team Training
URL:https://www.lymmrugby.co.uk/event/senior-team-training-2025-26-season/2025-12-30/
LOCATION:Lymm RFC\, Crouchley Ln\, Lymm\, WA13 0AS\, United Kingdom
CATEGORIES:Rugby Training
ATTACH;FMTTYPE=image/jpeg:https://www.lymmrugby.co.uk/wp-content/uploads/2019/01/lymm_ball.jpg
ORGANIZER;CN="Adam Fletcher":MAILTO:DOR@LymmRugby.co.uk
END:VEVENT
END:VCALENDAR