BEGIN:VCALENDAR
VERSION:2.0
PRODID:-//Lymm RFC - ECPv6.15.20//NONSGML v1.0//EN
CALSCALE:GREGORIAN
METHOD:PUBLISH
X-WR-CALNAME:Lymm RFC
X-ORIGINAL-URL:https://www.lymmrugby.co.uk
X-WR-CALDESC:Events for Lymm RFC
REFRESH-INTERVAL;VALUE=DURATION:PT1H
X-Robots-Tag:noindex
X-PUBLISHED-TTL:PT1H
BEGIN:VTIMEZONE
TZID:Europe/London
BEGIN:DAYLIGHT
TZOFFSETFROM:+0000
TZOFFSETTO:+0100
TZNAME:BST
DTSTART:20250330T010000
END:DAYLIGHT
BEGIN:STANDARD
TZOFFSETFROM:+0100
TZOFFSETTO:+0000
TZNAME:GMT
DTSTART:20251026T010000
END:STANDARD
BEGIN:DAYLIGHT
TZOFFSETFROM:+0000
TZOFFSETTO:+0100
TZNAME:BST
DTSTART:20260329T010000
END:DAYLIGHT
BEGIN:STANDARD
TZOFFSETFROM:+0100
TZOFFSETTO:+0000
TZNAME:GMT
DTSTART:20261025T010000
END:STANDARD
BEGIN:DAYLIGHT
TZOFFSETFROM:+0000
TZOFFSETTO:+0100
TZNAME:BST
DTSTART:20270328T010000
END:DAYLIGHT
BEGIN:STANDARD
TZOFFSETFROM:+0100
TZOFFSETTO:+0000
TZNAME:GMT
DTSTART:20271031T010000
END:STANDARD
END:VTIMEZONE
BEGIN:VEVENT
DTSTART;TZID=Europe/London:20260101T190000
DTEND;TZID=Europe/London:20260101T210000
DTSTAMP:20260422T100926
CREATED:20250610T113511Z
LAST-MODIFIED:20250812T102021Z
UID:21981-1767294000-1767301200@www.lymmrugby.co.uk
SUMMARY:Senior Rugby Team Training 2025/26 Season
DESCRIPTION:1st XV and 2nd XV Team Training
URL:https://www.lymmrugby.co.uk/event/senior-team-training-2025-26-season/2026-01-01/
LOCATION:Lymm RFC\, Crouchley Ln\, Lymm\, WA13 0AS\, United Kingdom
CATEGORIES:Rugby Training
ATTACH;FMTTYPE=image/jpeg:https://www.lymmrugby.co.uk/wp-content/uploads/2019/01/lymm_ball.jpg
ORGANIZER;CN="Adam Fletcher":MAILTO:DOR@LymmRugby.co.uk
END:VEVENT
BEGIN:VEVENT
DTSTART;TZID=Europe/London:20260106T190000
DTEND;TZID=Europe/London:20260106T210000
DTSTAMP:20260422T100926
CREATED:20250610T113511Z
LAST-MODIFIED:20250812T102022Z
UID:21982-1767726000-1767733200@www.lymmrugby.co.uk
SUMMARY:Senior Rugby Team Training 2025/26 Season
DESCRIPTION:1st XV and 2nd XV Team Training
URL:https://www.lymmrugby.co.uk/event/senior-team-training-2025-26-season/2026-01-06/
LOCATION:Lymm RFC\, Crouchley Ln\, Lymm\, WA13 0AS\, United Kingdom
CATEGORIES:Rugby Training
ATTACH;FMTTYPE=image/jpeg:https://www.lymmrugby.co.uk/wp-content/uploads/2019/01/lymm_ball.jpg
ORGANIZER;CN="Adam Fletcher":MAILTO:DOR@LymmRugby.co.uk
END:VEVENT
BEGIN:VEVENT
DTSTART;TZID=Europe/London:20260108T190000
DTEND;TZID=Europe/London:20260108T210000
DTSTAMP:20260422T100926
CREATED:20250610T113511Z
LAST-MODIFIED:20250812T102023Z
UID:21983-1767898800-1767906000@www.lymmrugby.co.uk
SUMMARY:Senior Rugby Team Training 2025/26 Season
DESCRIPTION:1st XV and 2nd XV Team Training
URL:https://www.lymmrugby.co.uk/event/senior-team-training-2025-26-season/2026-01-08/
LOCATION:Lymm RFC\, Crouchley Ln\, Lymm\, WA13 0AS\, United Kingdom
CATEGORIES:Rugby Training
ATTACH;FMTTYPE=image/jpeg:https://www.lymmrugby.co.uk/wp-content/uploads/2019/01/lymm_ball.jpg
ORGANIZER;CN="Adam Fletcher":MAILTO:DOR@LymmRugby.co.uk
END:VEVENT
BEGIN:VEVENT
DTSTART;TZID=Europe/London:20260113T190000
DTEND;TZID=Europe/London:20260113T210000
DTSTAMP:20260422T100926
CREATED:20250610T113511Z
LAST-MODIFIED:20250812T102025Z
UID:21984-1768330800-1768338000@www.lymmrugby.co.uk
SUMMARY:Senior Rugby Team Training 2025/26 Season
DESCRIPTION:1st XV and 2nd XV Team Training
URL:https://www.lymmrugby.co.uk/event/senior-team-training-2025-26-season/2026-01-13/
LOCATION:Lymm RFC\, Crouchley Ln\, Lymm\, WA13 0AS\, United Kingdom
CATEGORIES:Rugby Training
ATTACH;FMTTYPE=image/jpeg:https://www.lymmrugby.co.uk/wp-content/uploads/2019/01/lymm_ball.jpg
ORGANIZER;CN="Adam Fletcher":MAILTO:DOR@LymmRugby.co.uk
END:VEVENT
BEGIN:VEVENT
DTSTART;TZID=Europe/London:20260115T190000
DTEND;TZID=Europe/London:20260115T210000
DTSTAMP:20260422T100926
CREATED:20250610T113511Z
LAST-MODIFIED:20250812T102028Z
UID:21985-1768503600-1768510800@www.lymmrugby.co.uk
SUMMARY:Senior Rugby Team Training 2025/26 Season
DESCRIPTION:1st XV and 2nd XV Team Training
URL:https://www.lymmrugby.co.uk/event/senior-team-training-2025-26-season/2026-01-15/
LOCATION:Lymm RFC\, Crouchley Ln\, Lymm\, WA13 0AS\, United Kingdom
CATEGORIES:Rugby Training
ATTACH;FMTTYPE=image/jpeg:https://www.lymmrugby.co.uk/wp-content/uploads/2019/01/lymm_ball.jpg
ORGANIZER;CN="Adam Fletcher":MAILTO:DOR@LymmRugby.co.uk
END:VEVENT
BEGIN:VEVENT
DTSTART;TZID=Europe/London:20260120T190000
DTEND;TZID=Europe/London:20260120T210000
DTSTAMP:20260422T100926
CREATED:20250610T113511Z
LAST-MODIFIED:20250812T102029Z
UID:21986-1768935600-1768942800@www.lymmrugby.co.uk
SUMMARY:Senior Rugby Team Training 2025/26 Season
DESCRIPTION:1st XV and 2nd XV Team Training
URL:https://www.lymmrugby.co.uk/event/senior-team-training-2025-26-season/2026-01-20/
LOCATION:Lymm RFC\, Crouchley Ln\, Lymm\, WA13 0AS\, United Kingdom
CATEGORIES:Rugby Training
ATTACH;FMTTYPE=image/jpeg:https://www.lymmrugby.co.uk/wp-content/uploads/2019/01/lymm_ball.jpg
ORGANIZER;CN="Adam Fletcher":MAILTO:DOR@LymmRugby.co.uk
END:VEVENT
BEGIN:VEVENT
DTSTART;TZID=Europe/London:20260122T190000
DTEND;TZID=Europe/London:20260122T210000
DTSTAMP:20260422T100926
CREATED:20250610T113511Z
LAST-MODIFIED:20250812T102030Z
UID:21987-1769108400-1769115600@www.lymmrugby.co.uk
SUMMARY:Senior Rugby Team Training 2025/26 Season
DESCRIPTION:1st XV and 2nd XV Team Training
URL:https://www.lymmrugby.co.uk/event/senior-team-training-2025-26-season/2026-01-22/
LOCATION:Lymm RFC\, Crouchley Ln\, Lymm\, WA13 0AS\, United Kingdom
CATEGORIES:Rugby Training
ATTACH;FMTTYPE=image/jpeg:https://www.lymmrugby.co.uk/wp-content/uploads/2019/01/lymm_ball.jpg
ORGANIZER;CN="Adam Fletcher":MAILTO:DOR@LymmRugby.co.uk
END:VEVENT
BEGIN:VEVENT
DTSTART;TZID=Europe/London:20260127T190000
DTEND;TZID=Europe/London:20260127T210000
DTSTAMP:20260422T100926
CREATED:20250610T113511Z
LAST-MODIFIED:20250812T102031Z
UID:21988-1769540400-1769547600@www.lymmrugby.co.uk
SUMMARY:Senior Rugby Team Training 2025/26 Season
DESCRIPTION:1st XV and 2nd XV Team Training
URL:https://www.lymmrugby.co.uk/event/senior-team-training-2025-26-season/2026-01-27/
LOCATION:Lymm RFC\, Crouchley Ln\, Lymm\, WA13 0AS\, United Kingdom
CATEGORIES:Rugby Training
ATTACH;FMTTYPE=image/jpeg:https://www.lymmrugby.co.uk/wp-content/uploads/2019/01/lymm_ball.jpg
ORGANIZER;CN="Adam Fletcher":MAILTO:DOR@LymmRugby.co.uk
END:VEVENT
BEGIN:VEVENT
DTSTART;TZID=Europe/London:20260129T190000
DTEND;TZID=Europe/London:20260129T210000
DTSTAMP:20260422T100926
CREATED:20250610T113511Z
LAST-MODIFIED:20250812T102032Z
UID:21989-1769713200-1769720400@www.lymmrugby.co.uk
SUMMARY:Senior Rugby Team Training 2025/26 Season
DESCRIPTION:1st XV and 2nd XV Team Training
URL:https://www.lymmrugby.co.uk/event/senior-team-training-2025-26-season/2026-01-29/
LOCATION:Lymm RFC\, Crouchley Ln\, Lymm\, WA13 0AS\, United Kingdom
CATEGORIES:Rugby Training
ATTACH;FMTTYPE=image/jpeg:https://www.lymmrugby.co.uk/wp-content/uploads/2019/01/lymm_ball.jpg
ORGANIZER;CN="Adam Fletcher":MAILTO:DOR@LymmRugby.co.uk
END:VEVENT
END:VCALENDAR