BEGIN:VCALENDAR
VERSION:2.0
PRODID:-//Lymm RFC - ECPv6.15.20//NONSGML v1.0//EN
CALSCALE:GREGORIAN
METHOD:PUBLISH
X-WR-CALNAME:Lymm RFC
X-ORIGINAL-URL:https://www.lymmrugby.co.uk
X-WR-CALDESC:Events for Lymm RFC
REFRESH-INTERVAL;VALUE=DURATION:PT1H
X-Robots-Tag:noindex
X-PUBLISHED-TTL:PT1H
BEGIN:VTIMEZONE
TZID:Europe/London
BEGIN:DAYLIGHT
TZOFFSETFROM:+0000
TZOFFSETTO:+0100
TZNAME:BST
DTSTART:20250330T010000
END:DAYLIGHT
BEGIN:STANDARD
TZOFFSETFROM:+0100
TZOFFSETTO:+0000
TZNAME:GMT
DTSTART:20251026T010000
END:STANDARD
BEGIN:DAYLIGHT
TZOFFSETFROM:+0000
TZOFFSETTO:+0100
TZNAME:BST
DTSTART:20260329T010000
END:DAYLIGHT
BEGIN:STANDARD
TZOFFSETFROM:+0100
TZOFFSETTO:+0000
TZNAME:GMT
DTSTART:20261025T010000
END:STANDARD
BEGIN:DAYLIGHT
TZOFFSETFROM:+0000
TZOFFSETTO:+0100
TZNAME:BST
DTSTART:20270328T010000
END:DAYLIGHT
BEGIN:STANDARD
TZOFFSETFROM:+0100
TZOFFSETTO:+0000
TZNAME:GMT
DTSTART:20271031T010000
END:STANDARD
END:VTIMEZONE
BEGIN:VEVENT
DTSTART;TZID=Europe/London:20260303T190000
DTEND;TZID=Europe/London:20260303T210000
DTSTAMP:20260422T071128
CREATED:20250610T113511Z
LAST-MODIFIED:20250812T102043Z
UID:21998-1772564400-1772571600@www.lymmrugby.co.uk
SUMMARY:Senior Rugby Team Training 2025/26 Season
DESCRIPTION:1st XV and 2nd XV Team Training
URL:https://www.lymmrugby.co.uk/event/senior-team-training-2025-26-season/2026-03-03/
LOCATION:Lymm RFC\, Crouchley Ln\, Lymm\, WA13 0AS\, United Kingdom
CATEGORIES:Rugby Training
ATTACH;FMTTYPE=image/jpeg:https://www.lymmrugby.co.uk/wp-content/uploads/2019/01/lymm_ball.jpg
ORGANIZER;CN="Adam Fletcher":MAILTO:DOR@LymmRugby.co.uk
END:VEVENT
BEGIN:VEVENT
DTSTART;TZID=Europe/London:20260305T190000
DTEND;TZID=Europe/London:20260305T210000
DTSTAMP:20260422T071128
CREATED:20250610T113511Z
LAST-MODIFIED:20250812T102045Z
UID:21999-1772737200-1772744400@www.lymmrugby.co.uk
SUMMARY:Senior Rugby Team Training 2025/26 Season
DESCRIPTION:1st XV and 2nd XV Team Training
URL:https://www.lymmrugby.co.uk/event/senior-team-training-2025-26-season/2026-03-05/
LOCATION:Lymm RFC\, Crouchley Ln\, Lymm\, WA13 0AS\, United Kingdom
CATEGORIES:Rugby Training
ATTACH;FMTTYPE=image/jpeg:https://www.lymmrugby.co.uk/wp-content/uploads/2019/01/lymm_ball.jpg
ORGANIZER;CN="Adam Fletcher":MAILTO:DOR@LymmRugby.co.uk
END:VEVENT
BEGIN:VEVENT
DTSTART;TZID=Europe/London:20260310T190000
DTEND;TZID=Europe/London:20260310T210000
DTSTAMP:20260422T071128
CREATED:20250610T113511Z
LAST-MODIFIED:20250812T102046Z
UID:22000-1773169200-1773176400@www.lymmrugby.co.uk
SUMMARY:Senior Rugby Team Training 2025/26 Season
DESCRIPTION:1st XV and 2nd XV Team Training
URL:https://www.lymmrugby.co.uk/event/senior-team-training-2025-26-season/2026-03-10/
LOCATION:Lymm RFC\, Crouchley Ln\, Lymm\, WA13 0AS\, United Kingdom
CATEGORIES:Rugby Training
ATTACH;FMTTYPE=image/jpeg:https://www.lymmrugby.co.uk/wp-content/uploads/2019/01/lymm_ball.jpg
ORGANIZER;CN="Adam Fletcher":MAILTO:DOR@LymmRugby.co.uk
END:VEVENT
BEGIN:VEVENT
DTSTART;TZID=Europe/London:20260312T190000
DTEND;TZID=Europe/London:20260312T210000
DTSTAMP:20260422T071128
CREATED:20250610T113511Z
LAST-MODIFIED:20250812T102047Z
UID:22001-1773342000-1773349200@www.lymmrugby.co.uk
SUMMARY:Senior Rugby Team Training 2025/26 Season
DESCRIPTION:1st XV and 2nd XV Team Training
URL:https://www.lymmrugby.co.uk/event/senior-team-training-2025-26-season/2026-03-12/
LOCATION:Lymm RFC\, Crouchley Ln\, Lymm\, WA13 0AS\, United Kingdom
CATEGORIES:Rugby Training
ATTACH;FMTTYPE=image/jpeg:https://www.lymmrugby.co.uk/wp-content/uploads/2019/01/lymm_ball.jpg
ORGANIZER;CN="Adam Fletcher":MAILTO:DOR@LymmRugby.co.uk
END:VEVENT
BEGIN:VEVENT
DTSTART;TZID=Europe/London:20260317T190000
DTEND;TZID=Europe/London:20260317T210000
DTSTAMP:20260422T071128
CREATED:20250610T113511Z
LAST-MODIFIED:20250812T102048Z
UID:22002-1773774000-1773781200@www.lymmrugby.co.uk
SUMMARY:Senior Rugby Team Training 2025/26 Season
DESCRIPTION:1st XV and 2nd XV Team Training
URL:https://www.lymmrugby.co.uk/event/senior-team-training-2025-26-season/2026-03-17/
LOCATION:Lymm RFC\, Crouchley Ln\, Lymm\, WA13 0AS\, United Kingdom
CATEGORIES:Rugby Training
ATTACH;FMTTYPE=image/jpeg:https://www.lymmrugby.co.uk/wp-content/uploads/2019/01/lymm_ball.jpg
ORGANIZER;CN="Adam Fletcher":MAILTO:DOR@LymmRugby.co.uk
END:VEVENT
BEGIN:VEVENT
DTSTART;TZID=Europe/London:20260319T190000
DTEND;TZID=Europe/London:20260319T210000
DTSTAMP:20260422T071128
CREATED:20250610T113511Z
LAST-MODIFIED:20250812T102048Z
UID:22003-1773946800-1773954000@www.lymmrugby.co.uk
SUMMARY:Senior Rugby Team Training 2025/26 Season
DESCRIPTION:1st XV and 2nd XV Team Training
URL:https://www.lymmrugby.co.uk/event/senior-team-training-2025-26-season/2026-03-19/
LOCATION:Lymm RFC\, Crouchley Ln\, Lymm\, WA13 0AS\, United Kingdom
CATEGORIES:Rugby Training
ATTACH;FMTTYPE=image/jpeg:https://www.lymmrugby.co.uk/wp-content/uploads/2019/01/lymm_ball.jpg
ORGANIZER;CN="Adam Fletcher":MAILTO:DOR@LymmRugby.co.uk
END:VEVENT
BEGIN:VEVENT
DTSTART;TZID=Europe/London:20260324T190000
DTEND;TZID=Europe/London:20260324T210000
DTSTAMP:20260422T071128
CREATED:20250610T113511Z
LAST-MODIFIED:20250812T102049Z
UID:22004-1774378800-1774386000@www.lymmrugby.co.uk
SUMMARY:Senior Rugby Team Training 2025/26 Season
DESCRIPTION:1st XV and 2nd XV Team Training
URL:https://www.lymmrugby.co.uk/event/senior-team-training-2025-26-season/2026-03-24/
LOCATION:Lymm RFC\, Crouchley Ln\, Lymm\, WA13 0AS\, United Kingdom
CATEGORIES:Rugby Training
ATTACH;FMTTYPE=image/jpeg:https://www.lymmrugby.co.uk/wp-content/uploads/2019/01/lymm_ball.jpg
ORGANIZER;CN="Adam Fletcher":MAILTO:DOR@LymmRugby.co.uk
END:VEVENT
BEGIN:VEVENT
DTSTART;TZID=Europe/London:20260326T190000
DTEND;TZID=Europe/London:20260326T210000
DTSTAMP:20260422T071128
CREATED:20250610T113511Z
LAST-MODIFIED:20250812T102053Z
UID:22005-1774551600-1774558800@www.lymmrugby.co.uk
SUMMARY:Senior Rugby Team Training 2025/26 Season
DESCRIPTION:1st XV and 2nd XV Team Training
URL:https://www.lymmrugby.co.uk/event/senior-team-training-2025-26-season/2026-03-26/
LOCATION:Lymm RFC\, Crouchley Ln\, Lymm\, WA13 0AS\, United Kingdom
CATEGORIES:Rugby Training
ATTACH;FMTTYPE=image/jpeg:https://www.lymmrugby.co.uk/wp-content/uploads/2019/01/lymm_ball.jpg
ORGANIZER;CN="Adam Fletcher":MAILTO:DOR@LymmRugby.co.uk
END:VEVENT
BEGIN:VEVENT
DTSTART;TZID=Europe/London:20260331T190000
DTEND;TZID=Europe/London:20260331T210000
DTSTAMP:20260422T071128
CREATED:20250610T113511Z
LAST-MODIFIED:20250812T102054Z
UID:22006-1774983600-1774990800@www.lymmrugby.co.uk
SUMMARY:Senior Rugby Team Training 2025/26 Season
DESCRIPTION:1st XV and 2nd XV Team Training
URL:https://www.lymmrugby.co.uk/event/senior-team-training-2025-26-season/2026-03-31/
LOCATION:Lymm RFC\, Crouchley Ln\, Lymm\, WA13 0AS\, United Kingdom
CATEGORIES:Rugby Training
ATTACH;FMTTYPE=image/jpeg:https://www.lymmrugby.co.uk/wp-content/uploads/2019/01/lymm_ball.jpg
ORGANIZER;CN="Adam Fletcher":MAILTO:DOR@LymmRugby.co.uk
END:VEVENT
END:VCALENDAR