BEGIN:VCALENDAR
VERSION:2.0
PRODID:-//Lymm RFC - ECPv6.15.20//NONSGML v1.0//EN
CALSCALE:GREGORIAN
METHOD:PUBLISH
X-WR-CALNAME:Lymm RFC
X-ORIGINAL-URL:https://www.lymmrugby.co.uk
X-WR-CALDESC:Events for Lymm RFC
REFRESH-INTERVAL;VALUE=DURATION:PT1H
X-Robots-Tag:noindex
X-PUBLISHED-TTL:PT1H
BEGIN:VTIMEZONE
TZID:Europe/London
BEGIN:DAYLIGHT
TZOFFSETFROM:+0000
TZOFFSETTO:+0100
TZNAME:BST
DTSTART:20230326T010000
END:DAYLIGHT
BEGIN:STANDARD
TZOFFSETFROM:+0100
TZOFFSETTO:+0000
TZNAME:GMT
DTSTART:20231029T010000
END:STANDARD
BEGIN:DAYLIGHT
TZOFFSETFROM:+0000
TZOFFSETTO:+0100
TZNAME:BST
DTSTART:20240331T010000
END:DAYLIGHT
BEGIN:STANDARD
TZOFFSETFROM:+0100
TZOFFSETTO:+0000
TZNAME:GMT
DTSTART:20241027T010000
END:STANDARD
BEGIN:DAYLIGHT
TZOFFSETFROM:+0000
TZOFFSETTO:+0100
TZNAME:BST
DTSTART:20250330T010000
END:DAYLIGHT
BEGIN:STANDARD
TZOFFSETFROM:+0100
TZOFFSETTO:+0000
TZNAME:GMT
DTSTART:20251026T010000
END:STANDARD
END:VTIMEZONE
BEGIN:VEVENT
DTSTART;TZID=Europe/London:20240212T093000
DTEND;TZID=Europe/London:20240212T160000
DTSTAMP:20260424T152332
CREATED:20240131T092916Z
LAST-MODIFIED:20240131T111034Z
UID:15406-1707730200-1707753600@www.lymmrugby.co.uk
SUMMARY:Under 10 - Under 15 Rugby Camp
DESCRIPTION:Sedburgh Rugby Camp with Will Cliff (Sale Sharks) for Under 10 to Under 15’s \nBook Here
URL:https://www.lymmrugby.co.uk/event/under10-under15-rugby-camp/2024-02-12/
LOCATION:Lymm RFC\, Crouchley Ln\, Lymm\, WA13 0AS\, United Kingdom
CATEGORIES:Rugby Training
ATTACH;FMTTYPE=image/png:https://www.lymmrugby.co.uk/wp-content/uploads/2024/01/Will-Cliff.png
ORGANIZER;CN="Will Hind":MAILTO:MJchairman@LymmRugby.co.uk
END:VEVENT
END:VCALENDAR