BEGIN:VCALENDAR
VERSION:2.0
PRODID:-//Lymm RFC - ECPv6.15.20//NONSGML v1.0//EN
CALSCALE:GREGORIAN
METHOD:PUBLISH
X-ORIGINAL-URL:https://www.lymmrugby.co.uk
X-WR-CALDESC:Events for Lymm RFC
REFRESH-INTERVAL;VALUE=DURATION:PT1H
X-Robots-Tag:noindex
X-PUBLISHED-TTL:PT1H
BEGIN:VTIMEZONE
TZID:Europe/London
BEGIN:DAYLIGHT
TZOFFSETFROM:+0000
TZOFFSETTO:+0100
TZNAME:BST
DTSTART:20250330T010000
END:DAYLIGHT
BEGIN:STANDARD
TZOFFSETFROM:+0100
TZOFFSETTO:+0000
TZNAME:GMT
DTSTART:20251026T010000
END:STANDARD
BEGIN:DAYLIGHT
TZOFFSETFROM:+0000
TZOFFSETTO:+0100
TZNAME:BST
DTSTART:20260329T010000
END:DAYLIGHT
BEGIN:STANDARD
TZOFFSETFROM:+0100
TZOFFSETTO:+0000
TZNAME:GMT
DTSTART:20261025T010000
END:STANDARD
BEGIN:DAYLIGHT
TZOFFSETFROM:+0000
TZOFFSETTO:+0100
TZNAME:BST
DTSTART:20270328T010000
END:DAYLIGHT
BEGIN:STANDARD
TZOFFSETFROM:+0100
TZOFFSETTO:+0000
TZNAME:GMT
DTSTART:20271031T010000
END:STANDARD
END:VTIMEZONE
BEGIN:VEVENT
DTSTART;TZID=Europe/London:20261123T170000
DTEND;TZID=Europe/London:20261123T190000
DTSTAMP:20260425T171353
CREATED:20230709T181441Z
LAST-MODIFIED:20230709T181441Z
UID:23990-1795453200-1795460400@www.lymmrugby.co.uk
SUMMARY:Social Tennis
DESCRIPTION:Social tennis will take place on the new courts from 1pm until 4pm on Saturday\, 10am until 1pm on Sundays and 5pm until 7pm on Monday and will continue as weekly events. \nSocial Tennis is a relaxed & friendly format for all abilities and particularly as an introduction for new players or those who have not played for years.
URL:https://www.lymmrugby.co.uk/event/social-tennis/2026-11-23/
LOCATION:Lymm RFC\, Crouchley Ln\, Lymm\, WA13 0AS\, United Kingdom
CATEGORIES:Tennis
ATTACH;FMTTYPE=image/jpeg:https://www.lymmrugby.co.uk/wp-content/uploads/2021/03/Tennis-Racket-2.jpg
END:VEVENT
BEGIN:VEVENT
DTSTART;TZID=Europe/London:20261125T153000
DTEND;TZID=Europe/London:20261125T203000
DTSTAMP:20260425T171353
CREATED:20241228T140249Z
LAST-MODIFIED:20241228T140249Z
UID:24210-1795620600-1795638600@www.lymmrugby.co.uk
SUMMARY:Tennis Training
DESCRIPTION:Coaching for both members & non-members is currently only on Wednesdays. \nUnder 7’s (YOUTH RED) at 3:45 pm \nJunior Under 10 at 4:30 pm \n\n11 & Over (YOUTH YELLOW) at 5:15 pm\n\nAdult Improvers 6 pm\n\nAdult Team Training 7 pm.
URL:https://www.lymmrugby.co.uk/event/tennis-training-2025-09-10/2026-11-25/
LOCATION:Lymm RFC\, Crouchley Ln\, Lymm\, WA13 0AS\, United Kingdom
CATEGORIES:Tennis
ATTACH;FMTTYPE=image/png:https://www.lymmrugby.co.uk/wp-content/uploads/2024/03/Manor-Road-Tennis-Ball.png
END:VEVENT
BEGIN:VEVENT
DTSTART;TZID=Europe/London:20261128T130000
DTEND;TZID=Europe/London:20261128T160000
DTSTAMP:20260425T171353
CREATED:20230709T181441Z
LAST-MODIFIED:20230709T181441Z
UID:23991-1795870800-1795881600@www.lymmrugby.co.uk
SUMMARY:Social Tennis
DESCRIPTION:Social tennis will take place on the new courts from 1pm until 4pm on Saturday\, 10am until 1pm on Sundays and 5pm until 7pm on Monday and will continue as weekly events. \nSocial Tennis is a relaxed & friendly format for all abilities and particularly as an introduction for new players or those who have not played for years.
URL:https://www.lymmrugby.co.uk/event/social-tennis/2026-11-28/
LOCATION:Lymm RFC\, Crouchley Ln\, Lymm\, WA13 0AS\, United Kingdom
CATEGORIES:Tennis
ATTACH;FMTTYPE=image/jpeg:https://www.lymmrugby.co.uk/wp-content/uploads/2021/03/Tennis-Racket-2.jpg
END:VEVENT
BEGIN:VEVENT
DTSTART;TZID=Europe/London:20261129T100000
DTEND;TZID=Europe/London:20261129T130000
DTSTAMP:20260425T171353
CREATED:20230709T181441Z
LAST-MODIFIED:20230709T181441Z
UID:23992-1795946400-1795957200@www.lymmrugby.co.uk
SUMMARY:Social Tennis
DESCRIPTION:Social tennis will take place on the new courts from 1pm until 4pm on Saturday\, 10am until 1pm on Sundays and 5pm until 7pm on Monday and will continue as weekly events. \nSocial Tennis is a relaxed & friendly format for all abilities and particularly as an introduction for new players or those who have not played for years.
URL:https://www.lymmrugby.co.uk/event/social-tennis/2026-11-29/
LOCATION:Lymm RFC\, Crouchley Ln\, Lymm\, WA13 0AS\, United Kingdom
CATEGORIES:Tennis
ATTACH;FMTTYPE=image/jpeg:https://www.lymmrugby.co.uk/wp-content/uploads/2021/03/Tennis-Racket-2.jpg
END:VEVENT
BEGIN:VEVENT
DTSTART;TZID=Europe/London:20261130T170000
DTEND;TZID=Europe/London:20261130T190000
DTSTAMP:20260425T171353
CREATED:20230709T181441Z
LAST-MODIFIED:20230709T181441Z
UID:23993-1796058000-1796065200@www.lymmrugby.co.uk
SUMMARY:Social Tennis
DESCRIPTION:Social tennis will take place on the new courts from 1pm until 4pm on Saturday\, 10am until 1pm on Sundays and 5pm until 7pm on Monday and will continue as weekly events. \nSocial Tennis is a relaxed & friendly format for all abilities and particularly as an introduction for new players or those who have not played for years.
URL:https://www.lymmrugby.co.uk/event/social-tennis/2026-11-30/
LOCATION:Lymm RFC\, Crouchley Ln\, Lymm\, WA13 0AS\, United Kingdom
CATEGORIES:Tennis
ATTACH;FMTTYPE=image/jpeg:https://www.lymmrugby.co.uk/wp-content/uploads/2021/03/Tennis-Racket-2.jpg
END:VEVENT
BEGIN:VEVENT
DTSTART;TZID=Europe/London:20261202T153000
DTEND;TZID=Europe/London:20261202T203000
DTSTAMP:20260425T171353
CREATED:20241228T140249Z
LAST-MODIFIED:20241228T140249Z
UID:24211-1796225400-1796243400@www.lymmrugby.co.uk
SUMMARY:Tennis Training
DESCRIPTION:Coaching for both members & non-members is currently only on Wednesdays. \nUnder 7’s (YOUTH RED) at 3:45 pm \nJunior Under 10 at 4:30 pm \n\n11 & Over (YOUTH YELLOW) at 5:15 pm\n\nAdult Improvers 6 pm\n\nAdult Team Training 7 pm.
URL:https://www.lymmrugby.co.uk/event/tennis-training-2025-09-10/2026-12-02/
LOCATION:Lymm RFC\, Crouchley Ln\, Lymm\, WA13 0AS\, United Kingdom
CATEGORIES:Tennis
ATTACH;FMTTYPE=image/png:https://www.lymmrugby.co.uk/wp-content/uploads/2024/03/Manor-Road-Tennis-Ball.png
END:VEVENT
BEGIN:VEVENT
DTSTART;TZID=Europe/London:20261205T130000
DTEND;TZID=Europe/London:20261205T160000
DTSTAMP:20260425T171353
CREATED:20230709T181441Z
LAST-MODIFIED:20230709T181441Z
UID:23994-1796475600-1796486400@www.lymmrugby.co.uk
SUMMARY:Social Tennis
DESCRIPTION:Social tennis will take place on the new courts from 1pm until 4pm on Saturday\, 10am until 1pm on Sundays and 5pm until 7pm on Monday and will continue as weekly events. \nSocial Tennis is a relaxed & friendly format for all abilities and particularly as an introduction for new players or those who have not played for years.
URL:https://www.lymmrugby.co.uk/event/social-tennis/2026-12-05/
LOCATION:Lymm RFC\, Crouchley Ln\, Lymm\, WA13 0AS\, United Kingdom
CATEGORIES:Tennis
ATTACH;FMTTYPE=image/jpeg:https://www.lymmrugby.co.uk/wp-content/uploads/2021/03/Tennis-Racket-2.jpg
END:VEVENT
BEGIN:VEVENT
DTSTART;TZID=Europe/London:20261206T100000
DTEND;TZID=Europe/London:20261206T130000
DTSTAMP:20260425T171353
CREATED:20230709T181441Z
LAST-MODIFIED:20230709T181441Z
UID:23995-1796551200-1796562000@www.lymmrugby.co.uk
SUMMARY:Social Tennis
DESCRIPTION:Social tennis will take place on the new courts from 1pm until 4pm on Saturday\, 10am until 1pm on Sundays and 5pm until 7pm on Monday and will continue as weekly events. \nSocial Tennis is a relaxed & friendly format for all abilities and particularly as an introduction for new players or those who have not played for years.
URL:https://www.lymmrugby.co.uk/event/social-tennis/2026-12-06/
LOCATION:Lymm RFC\, Crouchley Ln\, Lymm\, WA13 0AS\, United Kingdom
CATEGORIES:Tennis
ATTACH;FMTTYPE=image/jpeg:https://www.lymmrugby.co.uk/wp-content/uploads/2021/03/Tennis-Racket-2.jpg
END:VEVENT
BEGIN:VEVENT
DTSTART;TZID=Europe/London:20261207T170000
DTEND;TZID=Europe/London:20261207T190000
DTSTAMP:20260425T171353
CREATED:20230709T181441Z
LAST-MODIFIED:20230709T181441Z
UID:23996-1796662800-1796670000@www.lymmrugby.co.uk
SUMMARY:Social Tennis
DESCRIPTION:Social tennis will take place on the new courts from 1pm until 4pm on Saturday\, 10am until 1pm on Sundays and 5pm until 7pm on Monday and will continue as weekly events. \nSocial Tennis is a relaxed & friendly format for all abilities and particularly as an introduction for new players or those who have not played for years.
URL:https://www.lymmrugby.co.uk/event/social-tennis/2026-12-07/
LOCATION:Lymm RFC\, Crouchley Ln\, Lymm\, WA13 0AS\, United Kingdom
CATEGORIES:Tennis
ATTACH;FMTTYPE=image/jpeg:https://www.lymmrugby.co.uk/wp-content/uploads/2021/03/Tennis-Racket-2.jpg
END:VEVENT
BEGIN:VEVENT
DTSTART;TZID=Europe/London:20261209T153000
DTEND;TZID=Europe/London:20261209T203000
DTSTAMP:20260425T171353
CREATED:20241228T140249Z
LAST-MODIFIED:20241228T140249Z
UID:24212-1796830200-1796848200@www.lymmrugby.co.uk
SUMMARY:Tennis Training
DESCRIPTION:Coaching for both members & non-members is currently only on Wednesdays. \nUnder 7’s (YOUTH RED) at 3:45 pm \nJunior Under 10 at 4:30 pm \n\n11 & Over (YOUTH YELLOW) at 5:15 pm\n\nAdult Improvers 6 pm\n\nAdult Team Training 7 pm.
URL:https://www.lymmrugby.co.uk/event/tennis-training-2025-09-10/2026-12-09/
LOCATION:Lymm RFC\, Crouchley Ln\, Lymm\, WA13 0AS\, United Kingdom
CATEGORIES:Tennis
ATTACH;FMTTYPE=image/png:https://www.lymmrugby.co.uk/wp-content/uploads/2024/03/Manor-Road-Tennis-Ball.png
END:VEVENT
BEGIN:VEVENT
DTSTART;TZID=Europe/London:20261212T130000
DTEND;TZID=Europe/London:20261212T160000
DTSTAMP:20260425T171353
CREATED:20230709T181441Z
LAST-MODIFIED:20230709T181441Z
UID:23997-1797080400-1797091200@www.lymmrugby.co.uk
SUMMARY:Social Tennis
DESCRIPTION:Social tennis will take place on the new courts from 1pm until 4pm on Saturday\, 10am until 1pm on Sundays and 5pm until 7pm on Monday and will continue as weekly events. \nSocial Tennis is a relaxed & friendly format for all abilities and particularly as an introduction for new players or those who have not played for years.
URL:https://www.lymmrugby.co.uk/event/social-tennis/2026-12-12/
LOCATION:Lymm RFC\, Crouchley Ln\, Lymm\, WA13 0AS\, United Kingdom
CATEGORIES:Tennis
ATTACH;FMTTYPE=image/jpeg:https://www.lymmrugby.co.uk/wp-content/uploads/2021/03/Tennis-Racket-2.jpg
END:VEVENT
BEGIN:VEVENT
DTSTART;TZID=Europe/London:20261213T100000
DTEND;TZID=Europe/London:20261213T130000
DTSTAMP:20260425T171353
CREATED:20230709T181441Z
LAST-MODIFIED:20230709T181441Z
UID:23998-1797156000-1797166800@www.lymmrugby.co.uk
SUMMARY:Social Tennis
DESCRIPTION:Social tennis will take place on the new courts from 1pm until 4pm on Saturday\, 10am until 1pm on Sundays and 5pm until 7pm on Monday and will continue as weekly events. \nSocial Tennis is a relaxed & friendly format for all abilities and particularly as an introduction for new players or those who have not played for years.
URL:https://www.lymmrugby.co.uk/event/social-tennis/2026-12-13/
LOCATION:Lymm RFC\, Crouchley Ln\, Lymm\, WA13 0AS\, United Kingdom
CATEGORIES:Tennis
ATTACH;FMTTYPE=image/jpeg:https://www.lymmrugby.co.uk/wp-content/uploads/2021/03/Tennis-Racket-2.jpg
END:VEVENT
BEGIN:VEVENT
DTSTART;TZID=Europe/London:20261214T170000
DTEND;TZID=Europe/London:20261214T190000
DTSTAMP:20260425T171353
CREATED:20230709T181441Z
LAST-MODIFIED:20230709T181441Z
UID:23999-1797267600-1797274800@www.lymmrugby.co.uk
SUMMARY:Social Tennis
DESCRIPTION:Social tennis will take place on the new courts from 1pm until 4pm on Saturday\, 10am until 1pm on Sundays and 5pm until 7pm on Monday and will continue as weekly events. \nSocial Tennis is a relaxed & friendly format for all abilities and particularly as an introduction for new players or those who have not played for years.
URL:https://www.lymmrugby.co.uk/event/social-tennis/2026-12-14/
LOCATION:Lymm RFC\, Crouchley Ln\, Lymm\, WA13 0AS\, United Kingdom
CATEGORIES:Tennis
ATTACH;FMTTYPE=image/jpeg:https://www.lymmrugby.co.uk/wp-content/uploads/2021/03/Tennis-Racket-2.jpg
END:VEVENT
BEGIN:VEVENT
DTSTART;TZID=Europe/London:20261216T153000
DTEND;TZID=Europe/London:20261216T203000
DTSTAMP:20260425T171353
CREATED:20241228T140249Z
LAST-MODIFIED:20241228T140249Z
UID:24213-1797435000-1797453000@www.lymmrugby.co.uk
SUMMARY:Tennis Training
DESCRIPTION:Coaching for both members & non-members is currently only on Wednesdays. \nUnder 7’s (YOUTH RED) at 3:45 pm \nJunior Under 10 at 4:30 pm \n\n11 & Over (YOUTH YELLOW) at 5:15 pm\n\nAdult Improvers 6 pm\n\nAdult Team Training 7 pm.
URL:https://www.lymmrugby.co.uk/event/tennis-training-2025-09-10/2026-12-16/
LOCATION:Lymm RFC\, Crouchley Ln\, Lymm\, WA13 0AS\, United Kingdom
CATEGORIES:Tennis
ATTACH;FMTTYPE=image/png:https://www.lymmrugby.co.uk/wp-content/uploads/2024/03/Manor-Road-Tennis-Ball.png
END:VEVENT
BEGIN:VEVENT
DTSTART;TZID=Europe/London:20261219T130000
DTEND;TZID=Europe/London:20261219T160000
DTSTAMP:20260425T171353
CREATED:20230709T181441Z
LAST-MODIFIED:20230709T181441Z
UID:24000-1797685200-1797696000@www.lymmrugby.co.uk
SUMMARY:Social Tennis
DESCRIPTION:Social tennis will take place on the new courts from 1pm until 4pm on Saturday\, 10am until 1pm on Sundays and 5pm until 7pm on Monday and will continue as weekly events. \nSocial Tennis is a relaxed & friendly format for all abilities and particularly as an introduction for new players or those who have not played for years.
URL:https://www.lymmrugby.co.uk/event/social-tennis/2026-12-19/
LOCATION:Lymm RFC\, Crouchley Ln\, Lymm\, WA13 0AS\, United Kingdom
CATEGORIES:Tennis
ATTACH;FMTTYPE=image/jpeg:https://www.lymmrugby.co.uk/wp-content/uploads/2021/03/Tennis-Racket-2.jpg
END:VEVENT
BEGIN:VEVENT
DTSTART;TZID=Europe/London:20261220T100000
DTEND;TZID=Europe/London:20261220T130000
DTSTAMP:20260425T171353
CREATED:20230709T181441Z
LAST-MODIFIED:20230709T181441Z
UID:24001-1797760800-1797771600@www.lymmrugby.co.uk
SUMMARY:Social Tennis
DESCRIPTION:Social tennis will take place on the new courts from 1pm until 4pm on Saturday\, 10am until 1pm on Sundays and 5pm until 7pm on Monday and will continue as weekly events. \nSocial Tennis is a relaxed & friendly format for all abilities and particularly as an introduction for new players or those who have not played for years.
URL:https://www.lymmrugby.co.uk/event/social-tennis/2026-12-20/
LOCATION:Lymm RFC\, Crouchley Ln\, Lymm\, WA13 0AS\, United Kingdom
CATEGORIES:Tennis
ATTACH;FMTTYPE=image/jpeg:https://www.lymmrugby.co.uk/wp-content/uploads/2021/03/Tennis-Racket-2.jpg
END:VEVENT
BEGIN:VEVENT
DTSTART;TZID=Europe/London:20261221T170000
DTEND;TZID=Europe/London:20261221T190000
DTSTAMP:20260425T171353
CREATED:20230709T181441Z
LAST-MODIFIED:20230709T181441Z
UID:24002-1797872400-1797879600@www.lymmrugby.co.uk
SUMMARY:Social Tennis
DESCRIPTION:Social tennis will take place on the new courts from 1pm until 4pm on Saturday\, 10am until 1pm on Sundays and 5pm until 7pm on Monday and will continue as weekly events. \nSocial Tennis is a relaxed & friendly format for all abilities and particularly as an introduction for new players or those who have not played for years.
URL:https://www.lymmrugby.co.uk/event/social-tennis/2026-12-21/
LOCATION:Lymm RFC\, Crouchley Ln\, Lymm\, WA13 0AS\, United Kingdom
CATEGORIES:Tennis
ATTACH;FMTTYPE=image/jpeg:https://www.lymmrugby.co.uk/wp-content/uploads/2021/03/Tennis-Racket-2.jpg
END:VEVENT
BEGIN:VEVENT
DTSTART;TZID=Europe/London:20261226T130000
DTEND;TZID=Europe/London:20261226T160000
DTSTAMP:20260425T171353
CREATED:20230709T181441Z
LAST-MODIFIED:20230709T181441Z
UID:24003-1798290000-1798300800@www.lymmrugby.co.uk
SUMMARY:Social Tennis
DESCRIPTION:Social tennis will take place on the new courts from 1pm until 4pm on Saturday\, 10am until 1pm on Sundays and 5pm until 7pm on Monday and will continue as weekly events. \nSocial Tennis is a relaxed & friendly format for all abilities and particularly as an introduction for new players or those who have not played for years.
URL:https://www.lymmrugby.co.uk/event/social-tennis/2026-12-26/
LOCATION:Lymm RFC\, Crouchley Ln\, Lymm\, WA13 0AS\, United Kingdom
CATEGORIES:Tennis
ATTACH;FMTTYPE=image/jpeg:https://www.lymmrugby.co.uk/wp-content/uploads/2021/03/Tennis-Racket-2.jpg
END:VEVENT
BEGIN:VEVENT
DTSTART;TZID=Europe/London:20261227T100000
DTEND;TZID=Europe/London:20261227T130000
DTSTAMP:20260425T171353
CREATED:20230709T181441Z
LAST-MODIFIED:20230709T181441Z
UID:24004-1798365600-1798376400@www.lymmrugby.co.uk
SUMMARY:Social Tennis
DESCRIPTION:Social tennis will take place on the new courts from 1pm until 4pm on Saturday\, 10am until 1pm on Sundays and 5pm until 7pm on Monday and will continue as weekly events. \nSocial Tennis is a relaxed & friendly format for all abilities and particularly as an introduction for new players or those who have not played for years.
URL:https://www.lymmrugby.co.uk/event/social-tennis/2026-12-27/
LOCATION:Lymm RFC\, Crouchley Ln\, Lymm\, WA13 0AS\, United Kingdom
CATEGORIES:Tennis
ATTACH;FMTTYPE=image/jpeg:https://www.lymmrugby.co.uk/wp-content/uploads/2021/03/Tennis-Racket-2.jpg
END:VEVENT
BEGIN:VEVENT
DTSTART;TZID=Europe/London:20261228T170000
DTEND;TZID=Europe/London:20261228T190000
DTSTAMP:20260425T171353
CREATED:20230709T181441Z
LAST-MODIFIED:20230709T181441Z
UID:24005-1798477200-1798484400@www.lymmrugby.co.uk
SUMMARY:Social Tennis
DESCRIPTION:Social tennis will take place on the new courts from 1pm until 4pm on Saturday\, 10am until 1pm on Sundays and 5pm until 7pm on Monday and will continue as weekly events. \nSocial Tennis is a relaxed & friendly format for all abilities and particularly as an introduction for new players or those who have not played for years.
URL:https://www.lymmrugby.co.uk/event/social-tennis/2026-12-28/
LOCATION:Lymm RFC\, Crouchley Ln\, Lymm\, WA13 0AS\, United Kingdom
CATEGORIES:Tennis
ATTACH;FMTTYPE=image/jpeg:https://www.lymmrugby.co.uk/wp-content/uploads/2021/03/Tennis-Racket-2.jpg
END:VEVENT
END:VCALENDAR