BEGIN:VCALENDAR
VERSION:2.0
PRODID:-//Lymm RFC - ECPv6.15.20//NONSGML v1.0//EN
CALSCALE:GREGORIAN
METHOD:PUBLISH
X-WR-CALNAME:Lymm RFC
X-ORIGINAL-URL:https://www.lymmrugby.co.uk
X-WR-CALDESC:Events for Lymm RFC
REFRESH-INTERVAL;VALUE=DURATION:PT1H
X-Robots-Tag:noindex
X-PUBLISHED-TTL:PT1H
BEGIN:VTIMEZONE
TZID:Europe/London
BEGIN:DAYLIGHT
TZOFFSETFROM:+0000
TZOFFSETTO:+0100
TZNAME:BST
DTSTART:20250330T010000
END:DAYLIGHT
BEGIN:STANDARD
TZOFFSETFROM:+0100
TZOFFSETTO:+0000
TZNAME:GMT
DTSTART:20251026T010000
END:STANDARD
BEGIN:DAYLIGHT
TZOFFSETFROM:+0000
TZOFFSETTO:+0100
TZNAME:BST
DTSTART:20260329T010000
END:DAYLIGHT
BEGIN:STANDARD
TZOFFSETFROM:+0100
TZOFFSETTO:+0000
TZNAME:GMT
DTSTART:20261025T010000
END:STANDARD
BEGIN:DAYLIGHT
TZOFFSETFROM:+0000
TZOFFSETTO:+0100
TZNAME:BST
DTSTART:20270328T010000
END:DAYLIGHT
BEGIN:STANDARD
TZOFFSETFROM:+0100
TZOFFSETTO:+0000
TZNAME:GMT
DTSTART:20271031T010000
END:STANDARD
END:VTIMEZONE
BEGIN:VEVENT
DTSTART;TZID=Europe/London:20260712T100000
DTEND;TZID=Europe/London:20260712T130000
DTSTAMP:20260421T180139
CREATED:20230709T181441Z
LAST-MODIFIED:20230709T181441Z
UID:23932-1783850400-1783861200@www.lymmrugby.co.uk
SUMMARY:Social Tennis
DESCRIPTION:Social tennis will take place on the new courts from 1pm until 4pm on Saturday\, 10am until 1pm on Sundays and 5pm until 7pm on Monday and will continue as weekly events. \nSocial Tennis is a relaxed & friendly format for all abilities and particularly as an introduction for new players or those who have not played for years.
URL:https://www.lymmrugby.co.uk/event/social-tennis/2026-07-12/
LOCATION:Lymm RFC\, Crouchley Ln\, Lymm\, WA13 0AS\, United Kingdom
CATEGORIES:Tennis
ATTACH;FMTTYPE=image/jpeg:https://www.lymmrugby.co.uk/wp-content/uploads/2021/03/Tennis-Racket-2.jpg
END:VEVENT
BEGIN:VEVENT
DTSTART;TZID=Europe/London:20260713T170000
DTEND;TZID=Europe/London:20260713T190000
DTSTAMP:20260421T180139
CREATED:20230709T181441Z
LAST-MODIFIED:20230709T181441Z
UID:23933-1783962000-1783969200@www.lymmrugby.co.uk
SUMMARY:Social Tennis
DESCRIPTION:Social tennis will take place on the new courts from 1pm until 4pm on Saturday\, 10am until 1pm on Sundays and 5pm until 7pm on Monday and will continue as weekly events. \nSocial Tennis is a relaxed & friendly format for all abilities and particularly as an introduction for new players or those who have not played for years.
URL:https://www.lymmrugby.co.uk/event/social-tennis/2026-07-13/
LOCATION:Lymm RFC\, Crouchley Ln\, Lymm\, WA13 0AS\, United Kingdom
CATEGORIES:Tennis
ATTACH;FMTTYPE=image/jpeg:https://www.lymmrugby.co.uk/wp-content/uploads/2021/03/Tennis-Racket-2.jpg
END:VEVENT
BEGIN:VEVENT
DTSTART;TZID=Europe/London:20260715T153000
DTEND;TZID=Europe/London:20260715T203000
DTSTAMP:20260421T180139
CREATED:20241228T140249Z
LAST-MODIFIED:20241228T140249Z
UID:24191-1784129400-1784147400@www.lymmrugby.co.uk
SUMMARY:Tennis Training
DESCRIPTION:Coaching for both members & non-members is currently only on Wednesdays. \nUnder 7’s (YOUTH RED) at 3:45 pm \nJunior Under 10 at 4:30 pm \n\n11 & Over (YOUTH YELLOW) at 5:15 pm\n\nAdult Improvers 6 pm\n\nAdult Team Training 7 pm.
URL:https://www.lymmrugby.co.uk/event/tennis-training-2025-09-10/2026-07-15/
LOCATION:Lymm RFC\, Crouchley Ln\, Lymm\, WA13 0AS\, United Kingdom
CATEGORIES:Tennis
ATTACH;FMTTYPE=image/png:https://www.lymmrugby.co.uk/wp-content/uploads/2024/03/Manor-Road-Tennis-Ball.png
END:VEVENT
BEGIN:VEVENT
DTSTART;TZID=Europe/London:20260718T130000
DTEND;TZID=Europe/London:20260718T160000
DTSTAMP:20260421T180139
CREATED:20230709T181441Z
LAST-MODIFIED:20230709T181441Z
UID:23934-1784379600-1784390400@www.lymmrugby.co.uk
SUMMARY:Social Tennis
DESCRIPTION:Social tennis will take place on the new courts from 1pm until 4pm on Saturday\, 10am until 1pm on Sundays and 5pm until 7pm on Monday and will continue as weekly events. \nSocial Tennis is a relaxed & friendly format for all abilities and particularly as an introduction for new players or those who have not played for years.
URL:https://www.lymmrugby.co.uk/event/social-tennis/2026-07-18/
LOCATION:Lymm RFC\, Crouchley Ln\, Lymm\, WA13 0AS\, United Kingdom
CATEGORIES:Tennis
ATTACH;FMTTYPE=image/jpeg:https://www.lymmrugby.co.uk/wp-content/uploads/2021/03/Tennis-Racket-2.jpg
END:VEVENT
BEGIN:VEVENT
DTSTART;TZID=Europe/London:20260719T100000
DTEND;TZID=Europe/London:20260719T130000
DTSTAMP:20260421T180139
CREATED:20230709T181441Z
LAST-MODIFIED:20230709T181441Z
UID:23935-1784455200-1784466000@www.lymmrugby.co.uk
SUMMARY:Social Tennis
DESCRIPTION:Social tennis will take place on the new courts from 1pm until 4pm on Saturday\, 10am until 1pm on Sundays and 5pm until 7pm on Monday and will continue as weekly events. \nSocial Tennis is a relaxed & friendly format for all abilities and particularly as an introduction for new players or those who have not played for years.
URL:https://www.lymmrugby.co.uk/event/social-tennis/2026-07-19/
LOCATION:Lymm RFC\, Crouchley Ln\, Lymm\, WA13 0AS\, United Kingdom
CATEGORIES:Tennis
ATTACH;FMTTYPE=image/jpeg:https://www.lymmrugby.co.uk/wp-content/uploads/2021/03/Tennis-Racket-2.jpg
END:VEVENT
BEGIN:VEVENT
DTSTART;TZID=Europe/London:20260720T170000
DTEND;TZID=Europe/London:20260720T190000
DTSTAMP:20260421T180139
CREATED:20230709T181441Z
LAST-MODIFIED:20230709T181441Z
UID:23936-1784566800-1784574000@www.lymmrugby.co.uk
SUMMARY:Social Tennis
DESCRIPTION:Social tennis will take place on the new courts from 1pm until 4pm on Saturday\, 10am until 1pm on Sundays and 5pm until 7pm on Monday and will continue as weekly events. \nSocial Tennis is a relaxed & friendly format for all abilities and particularly as an introduction for new players or those who have not played for years.
URL:https://www.lymmrugby.co.uk/event/social-tennis/2026-07-20/
LOCATION:Lymm RFC\, Crouchley Ln\, Lymm\, WA13 0AS\, United Kingdom
CATEGORIES:Tennis
ATTACH;FMTTYPE=image/jpeg:https://www.lymmrugby.co.uk/wp-content/uploads/2021/03/Tennis-Racket-2.jpg
END:VEVENT
BEGIN:VEVENT
DTSTART;TZID=Europe/London:20260722T153000
DTEND;TZID=Europe/London:20260722T203000
DTSTAMP:20260421T180139
CREATED:20241228T140249Z
LAST-MODIFIED:20241228T140249Z
UID:24192-1784734200-1784752200@www.lymmrugby.co.uk
SUMMARY:Tennis Training
DESCRIPTION:Coaching for both members & non-members is currently only on Wednesdays. \nUnder 7’s (YOUTH RED) at 3:45 pm \nJunior Under 10 at 4:30 pm \n\n11 & Over (YOUTH YELLOW) at 5:15 pm\n\nAdult Improvers 6 pm\n\nAdult Team Training 7 pm.
URL:https://www.lymmrugby.co.uk/event/tennis-training-2025-09-10/2026-07-22/
LOCATION:Lymm RFC\, Crouchley Ln\, Lymm\, WA13 0AS\, United Kingdom
CATEGORIES:Tennis
ATTACH;FMTTYPE=image/png:https://www.lymmrugby.co.uk/wp-content/uploads/2024/03/Manor-Road-Tennis-Ball.png
END:VEVENT
BEGIN:VEVENT
DTSTART;TZID=Europe/London:20260725T130000
DTEND;TZID=Europe/London:20260725T160000
DTSTAMP:20260421T180139
CREATED:20230709T181441Z
LAST-MODIFIED:20230709T181441Z
UID:23937-1784984400-1784995200@www.lymmrugby.co.uk
SUMMARY:Social Tennis
DESCRIPTION:Social tennis will take place on the new courts from 1pm until 4pm on Saturday\, 10am until 1pm on Sundays and 5pm until 7pm on Monday and will continue as weekly events. \nSocial Tennis is a relaxed & friendly format for all abilities and particularly as an introduction for new players or those who have not played for years.
URL:https://www.lymmrugby.co.uk/event/social-tennis/2026-07-25/
LOCATION:Lymm RFC\, Crouchley Ln\, Lymm\, WA13 0AS\, United Kingdom
CATEGORIES:Tennis
ATTACH;FMTTYPE=image/jpeg:https://www.lymmrugby.co.uk/wp-content/uploads/2021/03/Tennis-Racket-2.jpg
END:VEVENT
BEGIN:VEVENT
DTSTART;TZID=Europe/London:20260726T100000
DTEND;TZID=Europe/London:20260726T130000
DTSTAMP:20260421T180139
CREATED:20230709T181441Z
LAST-MODIFIED:20230709T181441Z
UID:23938-1785060000-1785070800@www.lymmrugby.co.uk
SUMMARY:Social Tennis
DESCRIPTION:Social tennis will take place on the new courts from 1pm until 4pm on Saturday\, 10am until 1pm on Sundays and 5pm until 7pm on Monday and will continue as weekly events. \nSocial Tennis is a relaxed & friendly format for all abilities and particularly as an introduction for new players or those who have not played for years.
URL:https://www.lymmrugby.co.uk/event/social-tennis/2026-07-26/
LOCATION:Lymm RFC\, Crouchley Ln\, Lymm\, WA13 0AS\, United Kingdom
CATEGORIES:Tennis
ATTACH;FMTTYPE=image/jpeg:https://www.lymmrugby.co.uk/wp-content/uploads/2021/03/Tennis-Racket-2.jpg
END:VEVENT
BEGIN:VEVENT
DTSTART;TZID=Europe/London:20260727T170000
DTEND;TZID=Europe/London:20260727T190000
DTSTAMP:20260421T180139
CREATED:20230709T181441Z
LAST-MODIFIED:20230709T181441Z
UID:23939-1785171600-1785178800@www.lymmrugby.co.uk
SUMMARY:Social Tennis
DESCRIPTION:Social tennis will take place on the new courts from 1pm until 4pm on Saturday\, 10am until 1pm on Sundays and 5pm until 7pm on Monday and will continue as weekly events. \nSocial Tennis is a relaxed & friendly format for all abilities and particularly as an introduction for new players or those who have not played for years.
URL:https://www.lymmrugby.co.uk/event/social-tennis/2026-07-27/
LOCATION:Lymm RFC\, Crouchley Ln\, Lymm\, WA13 0AS\, United Kingdom
CATEGORIES:Tennis
ATTACH;FMTTYPE=image/jpeg:https://www.lymmrugby.co.uk/wp-content/uploads/2021/03/Tennis-Racket-2.jpg
END:VEVENT
BEGIN:VEVENT
DTSTART;TZID=Europe/London:20260729T153000
DTEND;TZID=Europe/London:20260729T203000
DTSTAMP:20260421T180139
CREATED:20241228T140249Z
LAST-MODIFIED:20241228T140249Z
UID:24193-1785339000-1785357000@www.lymmrugby.co.uk
SUMMARY:Tennis Training
DESCRIPTION:Coaching for both members & non-members is currently only on Wednesdays. \nUnder 7’s (YOUTH RED) at 3:45 pm \nJunior Under 10 at 4:30 pm \n\n11 & Over (YOUTH YELLOW) at 5:15 pm\n\nAdult Improvers 6 pm\n\nAdult Team Training 7 pm.
URL:https://www.lymmrugby.co.uk/event/tennis-training-2025-09-10/2026-07-29/
LOCATION:Lymm RFC\, Crouchley Ln\, Lymm\, WA13 0AS\, United Kingdom
CATEGORIES:Tennis
ATTACH;FMTTYPE=image/png:https://www.lymmrugby.co.uk/wp-content/uploads/2024/03/Manor-Road-Tennis-Ball.png
END:VEVENT
BEGIN:VEVENT
DTSTART;TZID=Europe/London:20260801T130000
DTEND;TZID=Europe/London:20260801T160000
DTSTAMP:20260421T180139
CREATED:20230709T181441Z
LAST-MODIFIED:20230709T181441Z
UID:23940-1785589200-1785600000@www.lymmrugby.co.uk
SUMMARY:Social Tennis
DESCRIPTION:Social tennis will take place on the new courts from 1pm until 4pm on Saturday\, 10am until 1pm on Sundays and 5pm until 7pm on Monday and will continue as weekly events. \nSocial Tennis is a relaxed & friendly format for all abilities and particularly as an introduction for new players or those who have not played for years.
URL:https://www.lymmrugby.co.uk/event/social-tennis/2026-08-01/
LOCATION:Lymm RFC\, Crouchley Ln\, Lymm\, WA13 0AS\, United Kingdom
CATEGORIES:Tennis
ATTACH;FMTTYPE=image/jpeg:https://www.lymmrugby.co.uk/wp-content/uploads/2021/03/Tennis-Racket-2.jpg
END:VEVENT
BEGIN:VEVENT
DTSTART;TZID=Europe/London:20260802T100000
DTEND;TZID=Europe/London:20260802T130000
DTSTAMP:20260421T180139
CREATED:20230709T181441Z
LAST-MODIFIED:20230709T181441Z
UID:23941-1785664800-1785675600@www.lymmrugby.co.uk
SUMMARY:Social Tennis
DESCRIPTION:Social tennis will take place on the new courts from 1pm until 4pm on Saturday\, 10am until 1pm on Sundays and 5pm until 7pm on Monday and will continue as weekly events. \nSocial Tennis is a relaxed & friendly format for all abilities and particularly as an introduction for new players or those who have not played for years.
URL:https://www.lymmrugby.co.uk/event/social-tennis/2026-08-02/
LOCATION:Lymm RFC\, Crouchley Ln\, Lymm\, WA13 0AS\, United Kingdom
CATEGORIES:Tennis
ATTACH;FMTTYPE=image/jpeg:https://www.lymmrugby.co.uk/wp-content/uploads/2021/03/Tennis-Racket-2.jpg
END:VEVENT
BEGIN:VEVENT
DTSTART;TZID=Europe/London:20260803T170000
DTEND;TZID=Europe/London:20260803T190000
DTSTAMP:20260421T180139
CREATED:20230709T181441Z
LAST-MODIFIED:20230709T181441Z
UID:23942-1785776400-1785783600@www.lymmrugby.co.uk
SUMMARY:Social Tennis
DESCRIPTION:Social tennis will take place on the new courts from 1pm until 4pm on Saturday\, 10am until 1pm on Sundays and 5pm until 7pm on Monday and will continue as weekly events. \nSocial Tennis is a relaxed & friendly format for all abilities and particularly as an introduction for new players or those who have not played for years.
URL:https://www.lymmrugby.co.uk/event/social-tennis/2026-08-03/
LOCATION:Lymm RFC\, Crouchley Ln\, Lymm\, WA13 0AS\, United Kingdom
CATEGORIES:Tennis
ATTACH;FMTTYPE=image/jpeg:https://www.lymmrugby.co.uk/wp-content/uploads/2021/03/Tennis-Racket-2.jpg
END:VEVENT
BEGIN:VEVENT
DTSTART;TZID=Europe/London:20260805T153000
DTEND;TZID=Europe/London:20260805T203000
DTSTAMP:20260421T180139
CREATED:20241228T140249Z
LAST-MODIFIED:20241228T140249Z
UID:24194-1785943800-1785961800@www.lymmrugby.co.uk
SUMMARY:Tennis Training
DESCRIPTION:Coaching for both members & non-members is currently only on Wednesdays. \nUnder 7’s (YOUTH RED) at 3:45 pm \nJunior Under 10 at 4:30 pm \n\n11 & Over (YOUTH YELLOW) at 5:15 pm\n\nAdult Improvers 6 pm\n\nAdult Team Training 7 pm.
URL:https://www.lymmrugby.co.uk/event/tennis-training-2025-09-10/2026-08-05/
LOCATION:Lymm RFC\, Crouchley Ln\, Lymm\, WA13 0AS\, United Kingdom
CATEGORIES:Tennis
ATTACH;FMTTYPE=image/png:https://www.lymmrugby.co.uk/wp-content/uploads/2024/03/Manor-Road-Tennis-Ball.png
END:VEVENT
BEGIN:VEVENT
DTSTART;TZID=Europe/London:20260808T130000
DTEND;TZID=Europe/London:20260808T160000
DTSTAMP:20260421T180139
CREATED:20230709T181441Z
LAST-MODIFIED:20230709T181441Z
UID:23943-1786194000-1786204800@www.lymmrugby.co.uk
SUMMARY:Social Tennis
DESCRIPTION:Social tennis will take place on the new courts from 1pm until 4pm on Saturday\, 10am until 1pm on Sundays and 5pm until 7pm on Monday and will continue as weekly events. \nSocial Tennis is a relaxed & friendly format for all abilities and particularly as an introduction for new players or those who have not played for years.
URL:https://www.lymmrugby.co.uk/event/social-tennis/2026-08-08/
LOCATION:Lymm RFC\, Crouchley Ln\, Lymm\, WA13 0AS\, United Kingdom
CATEGORIES:Tennis
ATTACH;FMTTYPE=image/jpeg:https://www.lymmrugby.co.uk/wp-content/uploads/2021/03/Tennis-Racket-2.jpg
END:VEVENT
BEGIN:VEVENT
DTSTART;TZID=Europe/London:20260809T100000
DTEND;TZID=Europe/London:20260809T130000
DTSTAMP:20260421T180139
CREATED:20230709T181441Z
LAST-MODIFIED:20230709T181441Z
UID:23944-1786269600-1786280400@www.lymmrugby.co.uk
SUMMARY:Social Tennis
DESCRIPTION:Social tennis will take place on the new courts from 1pm until 4pm on Saturday\, 10am until 1pm on Sundays and 5pm until 7pm on Monday and will continue as weekly events. \nSocial Tennis is a relaxed & friendly format for all abilities and particularly as an introduction for new players or those who have not played for years.
URL:https://www.lymmrugby.co.uk/event/social-tennis/2026-08-09/
LOCATION:Lymm RFC\, Crouchley Ln\, Lymm\, WA13 0AS\, United Kingdom
CATEGORIES:Tennis
ATTACH;FMTTYPE=image/jpeg:https://www.lymmrugby.co.uk/wp-content/uploads/2021/03/Tennis-Racket-2.jpg
END:VEVENT
BEGIN:VEVENT
DTSTART;TZID=Europe/London:20260810T170000
DTEND;TZID=Europe/London:20260810T190000
DTSTAMP:20260421T180139
CREATED:20230709T181441Z
LAST-MODIFIED:20230709T181441Z
UID:23945-1786381200-1786388400@www.lymmrugby.co.uk
SUMMARY:Social Tennis
DESCRIPTION:Social tennis will take place on the new courts from 1pm until 4pm on Saturday\, 10am until 1pm on Sundays and 5pm until 7pm on Monday and will continue as weekly events. \nSocial Tennis is a relaxed & friendly format for all abilities and particularly as an introduction for new players or those who have not played for years.
URL:https://www.lymmrugby.co.uk/event/social-tennis/2026-08-10/
LOCATION:Lymm RFC\, Crouchley Ln\, Lymm\, WA13 0AS\, United Kingdom
CATEGORIES:Tennis
ATTACH;FMTTYPE=image/jpeg:https://www.lymmrugby.co.uk/wp-content/uploads/2021/03/Tennis-Racket-2.jpg
END:VEVENT
BEGIN:VEVENT
DTSTART;TZID=Europe/London:20260812T153000
DTEND;TZID=Europe/London:20260812T203000
DTSTAMP:20260421T180139
CREATED:20241228T140249Z
LAST-MODIFIED:20241228T140249Z
UID:24195-1786548600-1786566600@www.lymmrugby.co.uk
SUMMARY:Tennis Training
DESCRIPTION:Coaching for both members & non-members is currently only on Wednesdays. \nUnder 7’s (YOUTH RED) at 3:45 pm \nJunior Under 10 at 4:30 pm \n\n11 & Over (YOUTH YELLOW) at 5:15 pm\n\nAdult Improvers 6 pm\n\nAdult Team Training 7 pm.
URL:https://www.lymmrugby.co.uk/event/tennis-training-2025-09-10/2026-08-12/
LOCATION:Lymm RFC\, Crouchley Ln\, Lymm\, WA13 0AS\, United Kingdom
CATEGORIES:Tennis
ATTACH;FMTTYPE=image/png:https://www.lymmrugby.co.uk/wp-content/uploads/2024/03/Manor-Road-Tennis-Ball.png
END:VEVENT
BEGIN:VEVENT
DTSTART;TZID=Europe/London:20260815T130000
DTEND;TZID=Europe/London:20260815T160000
DTSTAMP:20260421T180139
CREATED:20230709T181441Z
LAST-MODIFIED:20230709T181441Z
UID:23946-1786798800-1786809600@www.lymmrugby.co.uk
SUMMARY:Social Tennis
DESCRIPTION:Social tennis will take place on the new courts from 1pm until 4pm on Saturday\, 10am until 1pm on Sundays and 5pm until 7pm on Monday and will continue as weekly events. \nSocial Tennis is a relaxed & friendly format for all abilities and particularly as an introduction for new players or those who have not played for years.
URL:https://www.lymmrugby.co.uk/event/social-tennis/2026-08-15/
LOCATION:Lymm RFC\, Crouchley Ln\, Lymm\, WA13 0AS\, United Kingdom
CATEGORIES:Tennis
ATTACH;FMTTYPE=image/jpeg:https://www.lymmrugby.co.uk/wp-content/uploads/2021/03/Tennis-Racket-2.jpg
END:VEVENT
BEGIN:VEVENT
DTSTART;TZID=Europe/London:20260816T100000
DTEND;TZID=Europe/London:20260816T130000
DTSTAMP:20260421T180139
CREATED:20230709T181441Z
LAST-MODIFIED:20230709T181441Z
UID:23947-1786874400-1786885200@www.lymmrugby.co.uk
SUMMARY:Social Tennis
DESCRIPTION:Social tennis will take place on the new courts from 1pm until 4pm on Saturday\, 10am until 1pm on Sundays and 5pm until 7pm on Monday and will continue as weekly events. \nSocial Tennis is a relaxed & friendly format for all abilities and particularly as an introduction for new players or those who have not played for years.
URL:https://www.lymmrugby.co.uk/event/social-tennis/2026-08-16/
LOCATION:Lymm RFC\, Crouchley Ln\, Lymm\, WA13 0AS\, United Kingdom
CATEGORIES:Tennis
ATTACH;FMTTYPE=image/jpeg:https://www.lymmrugby.co.uk/wp-content/uploads/2021/03/Tennis-Racket-2.jpg
END:VEVENT
BEGIN:VEVENT
DTSTART;TZID=Europe/London:20260817T170000
DTEND;TZID=Europe/London:20260817T190000
DTSTAMP:20260421T180139
CREATED:20230709T181441Z
LAST-MODIFIED:20230709T181441Z
UID:23948-1786986000-1786993200@www.lymmrugby.co.uk
SUMMARY:Social Tennis
DESCRIPTION:Social tennis will take place on the new courts from 1pm until 4pm on Saturday\, 10am until 1pm on Sundays and 5pm until 7pm on Monday and will continue as weekly events. \nSocial Tennis is a relaxed & friendly format for all abilities and particularly as an introduction for new players or those who have not played for years.
URL:https://www.lymmrugby.co.uk/event/social-tennis/2026-08-17/
LOCATION:Lymm RFC\, Crouchley Ln\, Lymm\, WA13 0AS\, United Kingdom
CATEGORIES:Tennis
ATTACH;FMTTYPE=image/jpeg:https://www.lymmrugby.co.uk/wp-content/uploads/2021/03/Tennis-Racket-2.jpg
END:VEVENT
BEGIN:VEVENT
DTSTART;TZID=Europe/London:20260819T153000
DTEND;TZID=Europe/London:20260819T203000
DTSTAMP:20260421T180139
CREATED:20241228T140249Z
LAST-MODIFIED:20241228T140249Z
UID:24196-1787153400-1787171400@www.lymmrugby.co.uk
SUMMARY:Tennis Training
DESCRIPTION:Coaching for both members & non-members is currently only on Wednesdays. \nUnder 7’s (YOUTH RED) at 3:45 pm \nJunior Under 10 at 4:30 pm \n\n11 & Over (YOUTH YELLOW) at 5:15 pm\n\nAdult Improvers 6 pm\n\nAdult Team Training 7 pm.
URL:https://www.lymmrugby.co.uk/event/tennis-training-2025-09-10/2026-08-19/
LOCATION:Lymm RFC\, Crouchley Ln\, Lymm\, WA13 0AS\, United Kingdom
CATEGORIES:Tennis
ATTACH;FMTTYPE=image/png:https://www.lymmrugby.co.uk/wp-content/uploads/2024/03/Manor-Road-Tennis-Ball.png
END:VEVENT
BEGIN:VEVENT
DTSTART;TZID=Europe/London:20260822T130000
DTEND;TZID=Europe/London:20260822T160000
DTSTAMP:20260421T180139
CREATED:20230709T181441Z
LAST-MODIFIED:20230709T181441Z
UID:23949-1787403600-1787414400@www.lymmrugby.co.uk
SUMMARY:Social Tennis
DESCRIPTION:Social tennis will take place on the new courts from 1pm until 4pm on Saturday\, 10am until 1pm on Sundays and 5pm until 7pm on Monday and will continue as weekly events. \nSocial Tennis is a relaxed & friendly format for all abilities and particularly as an introduction for new players or those who have not played for years.
URL:https://www.lymmrugby.co.uk/event/social-tennis/2026-08-22/
LOCATION:Lymm RFC\, Crouchley Ln\, Lymm\, WA13 0AS\, United Kingdom
CATEGORIES:Tennis
ATTACH;FMTTYPE=image/jpeg:https://www.lymmrugby.co.uk/wp-content/uploads/2021/03/Tennis-Racket-2.jpg
END:VEVENT
BEGIN:VEVENT
DTSTART;TZID=Europe/London:20260823T100000
DTEND;TZID=Europe/London:20260823T130000
DTSTAMP:20260421T180139
CREATED:20230709T181441Z
LAST-MODIFIED:20230709T181441Z
UID:23950-1787479200-1787490000@www.lymmrugby.co.uk
SUMMARY:Social Tennis
DESCRIPTION:Social tennis will take place on the new courts from 1pm until 4pm on Saturday\, 10am until 1pm on Sundays and 5pm until 7pm on Monday and will continue as weekly events. \nSocial Tennis is a relaxed & friendly format for all abilities and particularly as an introduction for new players or those who have not played for years.
URL:https://www.lymmrugby.co.uk/event/social-tennis/2026-08-23/
LOCATION:Lymm RFC\, Crouchley Ln\, Lymm\, WA13 0AS\, United Kingdom
CATEGORIES:Tennis
ATTACH;FMTTYPE=image/jpeg:https://www.lymmrugby.co.uk/wp-content/uploads/2021/03/Tennis-Racket-2.jpg
END:VEVENT
BEGIN:VEVENT
DTSTART;TZID=Europe/London:20260824T170000
DTEND;TZID=Europe/London:20260824T190000
DTSTAMP:20260421T180139
CREATED:20230709T181441Z
LAST-MODIFIED:20230709T181441Z
UID:23951-1787590800-1787598000@www.lymmrugby.co.uk
SUMMARY:Social Tennis
DESCRIPTION:Social tennis will take place on the new courts from 1pm until 4pm on Saturday\, 10am until 1pm on Sundays and 5pm until 7pm on Monday and will continue as weekly events. \nSocial Tennis is a relaxed & friendly format for all abilities and particularly as an introduction for new players or those who have not played for years.
URL:https://www.lymmrugby.co.uk/event/social-tennis/2026-08-24/
LOCATION:Lymm RFC\, Crouchley Ln\, Lymm\, WA13 0AS\, United Kingdom
CATEGORIES:Tennis
ATTACH;FMTTYPE=image/jpeg:https://www.lymmrugby.co.uk/wp-content/uploads/2021/03/Tennis-Racket-2.jpg
END:VEVENT
BEGIN:VEVENT
DTSTART;TZID=Europe/London:20260826T153000
DTEND;TZID=Europe/London:20260826T203000
DTSTAMP:20260421T180139
CREATED:20241228T140249Z
LAST-MODIFIED:20241228T140249Z
UID:24197-1787758200-1787776200@www.lymmrugby.co.uk
SUMMARY:Tennis Training
DESCRIPTION:Coaching for both members & non-members is currently only on Wednesdays. \nUnder 7’s (YOUTH RED) at 3:45 pm \nJunior Under 10 at 4:30 pm \n\n11 & Over (YOUTH YELLOW) at 5:15 pm\n\nAdult Improvers 6 pm\n\nAdult Team Training 7 pm.
URL:https://www.lymmrugby.co.uk/event/tennis-training-2025-09-10/2026-08-26/
LOCATION:Lymm RFC\, Crouchley Ln\, Lymm\, WA13 0AS\, United Kingdom
CATEGORIES:Tennis
ATTACH;FMTTYPE=image/png:https://www.lymmrugby.co.uk/wp-content/uploads/2024/03/Manor-Road-Tennis-Ball.png
END:VEVENT
BEGIN:VEVENT
DTSTART;TZID=Europe/London:20260829T130000
DTEND;TZID=Europe/London:20260829T160000
DTSTAMP:20260421T180139
CREATED:20230709T181441Z
LAST-MODIFIED:20230709T181441Z
UID:23952-1788008400-1788019200@www.lymmrugby.co.uk
SUMMARY:Social Tennis
DESCRIPTION:Social tennis will take place on the new courts from 1pm until 4pm on Saturday\, 10am until 1pm on Sundays and 5pm until 7pm on Monday and will continue as weekly events. \nSocial Tennis is a relaxed & friendly format for all abilities and particularly as an introduction for new players or those who have not played for years.
URL:https://www.lymmrugby.co.uk/event/social-tennis/2026-08-29/
LOCATION:Lymm RFC\, Crouchley Ln\, Lymm\, WA13 0AS\, United Kingdom
CATEGORIES:Tennis
ATTACH;FMTTYPE=image/jpeg:https://www.lymmrugby.co.uk/wp-content/uploads/2021/03/Tennis-Racket-2.jpg
END:VEVENT
BEGIN:VEVENT
DTSTART;TZID=Europe/London:20260830T100000
DTEND;TZID=Europe/London:20260830T130000
DTSTAMP:20260421T180139
CREATED:20230709T181441Z
LAST-MODIFIED:20230709T181441Z
UID:23953-1788084000-1788094800@www.lymmrugby.co.uk
SUMMARY:Social Tennis
DESCRIPTION:Social tennis will take place on the new courts from 1pm until 4pm on Saturday\, 10am until 1pm on Sundays and 5pm until 7pm on Monday and will continue as weekly events. \nSocial Tennis is a relaxed & friendly format for all abilities and particularly as an introduction for new players or those who have not played for years.
URL:https://www.lymmrugby.co.uk/event/social-tennis/2026-08-30/
LOCATION:Lymm RFC\, Crouchley Ln\, Lymm\, WA13 0AS\, United Kingdom
CATEGORIES:Tennis
ATTACH;FMTTYPE=image/jpeg:https://www.lymmrugby.co.uk/wp-content/uploads/2021/03/Tennis-Racket-2.jpg
END:VEVENT
BEGIN:VEVENT
DTSTART;TZID=Europe/London:20260831T170000
DTEND;TZID=Europe/London:20260831T190000
DTSTAMP:20260421T180139
CREATED:20230709T181441Z
LAST-MODIFIED:20230709T181441Z
UID:23954-1788195600-1788202800@www.lymmrugby.co.uk
SUMMARY:Social Tennis
DESCRIPTION:Social tennis will take place on the new courts from 1pm until 4pm on Saturday\, 10am until 1pm on Sundays and 5pm until 7pm on Monday and will continue as weekly events. \nSocial Tennis is a relaxed & friendly format for all abilities and particularly as an introduction for new players or those who have not played for years.
URL:https://www.lymmrugby.co.uk/event/social-tennis/2026-08-31/
LOCATION:Lymm RFC\, Crouchley Ln\, Lymm\, WA13 0AS\, United Kingdom
CATEGORIES:Tennis
ATTACH;FMTTYPE=image/jpeg:https://www.lymmrugby.co.uk/wp-content/uploads/2021/03/Tennis-Racket-2.jpg
END:VEVENT
END:VCALENDAR