BEGIN:VCALENDAR
VERSION:2.0
PRODID:-//Lymm RFC - ECPv6.15.20//NONSGML v1.0//EN
CALSCALE:GREGORIAN
METHOD:PUBLISH
X-ORIGINAL-URL:https://www.lymmrugby.co.uk
X-WR-CALDESC:Events for Lymm RFC
REFRESH-INTERVAL;VALUE=DURATION:PT1H
X-Robots-Tag:noindex
X-PUBLISHED-TTL:PT1H
BEGIN:VTIMEZONE
TZID:Europe/London
BEGIN:DAYLIGHT
TZOFFSETFROM:+0000
TZOFFSETTO:+0100
TZNAME:BST
DTSTART:20250330T010000
END:DAYLIGHT
BEGIN:STANDARD
TZOFFSETFROM:+0100
TZOFFSETTO:+0000
TZNAME:GMT
DTSTART:20251026T010000
END:STANDARD
BEGIN:DAYLIGHT
TZOFFSETFROM:+0000
TZOFFSETTO:+0100
TZNAME:BST
DTSTART:20260329T010000
END:DAYLIGHT
BEGIN:STANDARD
TZOFFSETFROM:+0100
TZOFFSETTO:+0000
TZNAME:GMT
DTSTART:20261025T010000
END:STANDARD
BEGIN:DAYLIGHT
TZOFFSETFROM:+0000
TZOFFSETTO:+0100
TZNAME:BST
DTSTART:20270328T010000
END:DAYLIGHT
BEGIN:STANDARD
TZOFFSETFROM:+0100
TZOFFSETTO:+0000
TZNAME:GMT
DTSTART:20271031T010000
END:STANDARD
END:VTIMEZONE
BEGIN:VEVENT
DTSTART;TZID=Europe/London:20260829T130000
DTEND;TZID=Europe/London:20260829T160000
DTSTAMP:20260425T120856
CREATED:20230709T181441Z
LAST-MODIFIED:20230709T181441Z
UID:23952-1788008400-1788019200@www.lymmrugby.co.uk
SUMMARY:Social Tennis
DESCRIPTION:Social tennis will take place on the new courts from 1pm until 4pm on Saturday\, 10am until 1pm on Sundays and 5pm until 7pm on Monday and will continue as weekly events. \nSocial Tennis is a relaxed & friendly format for all abilities and particularly as an introduction for new players or those who have not played for years.
URL:https://www.lymmrugby.co.uk/event/social-tennis/2026-08-29/
LOCATION:Lymm RFC\, Crouchley Ln\, Lymm\, WA13 0AS\, United Kingdom
CATEGORIES:Tennis
ATTACH;FMTTYPE=image/jpeg:https://www.lymmrugby.co.uk/wp-content/uploads/2021/03/Tennis-Racket-2.jpg
END:VEVENT
BEGIN:VEVENT
DTSTART;TZID=Europe/London:20260830T100000
DTEND;TZID=Europe/London:20260830T130000
DTSTAMP:20260425T120856
CREATED:20230709T181441Z
LAST-MODIFIED:20230709T181441Z
UID:23953-1788084000-1788094800@www.lymmrugby.co.uk
SUMMARY:Social Tennis
DESCRIPTION:Social tennis will take place on the new courts from 1pm until 4pm on Saturday\, 10am until 1pm on Sundays and 5pm until 7pm on Monday and will continue as weekly events. \nSocial Tennis is a relaxed & friendly format for all abilities and particularly as an introduction for new players or those who have not played for years.
URL:https://www.lymmrugby.co.uk/event/social-tennis/2026-08-30/
LOCATION:Lymm RFC\, Crouchley Ln\, Lymm\, WA13 0AS\, United Kingdom
CATEGORIES:Tennis
ATTACH;FMTTYPE=image/jpeg:https://www.lymmrugby.co.uk/wp-content/uploads/2021/03/Tennis-Racket-2.jpg
END:VEVENT
BEGIN:VEVENT
DTSTART;TZID=Europe/London:20260831T170000
DTEND;TZID=Europe/London:20260831T190000
DTSTAMP:20260425T120856
CREATED:20230709T181441Z
LAST-MODIFIED:20230709T181441Z
UID:23954-1788195600-1788202800@www.lymmrugby.co.uk
SUMMARY:Social Tennis
DESCRIPTION:Social tennis will take place on the new courts from 1pm until 4pm on Saturday\, 10am until 1pm on Sundays and 5pm until 7pm on Monday and will continue as weekly events. \nSocial Tennis is a relaxed & friendly format for all abilities and particularly as an introduction for new players or those who have not played for years.
URL:https://www.lymmrugby.co.uk/event/social-tennis/2026-08-31/
LOCATION:Lymm RFC\, Crouchley Ln\, Lymm\, WA13 0AS\, United Kingdom
CATEGORIES:Tennis
ATTACH;FMTTYPE=image/jpeg:https://www.lymmrugby.co.uk/wp-content/uploads/2021/03/Tennis-Racket-2.jpg
END:VEVENT
BEGIN:VEVENT
DTSTART;TZID=Europe/London:20260902T153000
DTEND;TZID=Europe/London:20260902T203000
DTSTAMP:20260425T120856
CREATED:20241228T140249Z
LAST-MODIFIED:20241228T140249Z
UID:24198-1788363000-1788381000@www.lymmrugby.co.uk
SUMMARY:Tennis Training
DESCRIPTION:Coaching for both members & non-members is currently only on Wednesdays. \nUnder 7’s (YOUTH RED) at 3:45 pm \nJunior Under 10 at 4:30 pm \n\n11 & Over (YOUTH YELLOW) at 5:15 pm\n\nAdult Improvers 6 pm\n\nAdult Team Training 7 pm.
URL:https://www.lymmrugby.co.uk/event/tennis-training-2025-09-10/2026-09-02/
LOCATION:Lymm RFC\, Crouchley Ln\, Lymm\, WA13 0AS\, United Kingdom
CATEGORIES:Tennis
ATTACH;FMTTYPE=image/png:https://www.lymmrugby.co.uk/wp-content/uploads/2024/03/Manor-Road-Tennis-Ball.png
END:VEVENT
BEGIN:VEVENT
DTSTART;TZID=Europe/London:20260905T130000
DTEND;TZID=Europe/London:20260905T160000
DTSTAMP:20260425T120856
CREATED:20230709T181441Z
LAST-MODIFIED:20230709T181441Z
UID:23955-1788613200-1788624000@www.lymmrugby.co.uk
SUMMARY:Social Tennis
DESCRIPTION:Social tennis will take place on the new courts from 1pm until 4pm on Saturday\, 10am until 1pm on Sundays and 5pm until 7pm on Monday and will continue as weekly events. \nSocial Tennis is a relaxed & friendly format for all abilities and particularly as an introduction for new players or those who have not played for years.
URL:https://www.lymmrugby.co.uk/event/social-tennis/2026-09-05/
LOCATION:Lymm RFC\, Crouchley Ln\, Lymm\, WA13 0AS\, United Kingdom
CATEGORIES:Tennis
ATTACH;FMTTYPE=image/jpeg:https://www.lymmrugby.co.uk/wp-content/uploads/2021/03/Tennis-Racket-2.jpg
END:VEVENT
BEGIN:VEVENT
DTSTART;TZID=Europe/London:20260906T100000
DTEND;TZID=Europe/London:20260906T130000
DTSTAMP:20260425T120856
CREATED:20230709T181441Z
LAST-MODIFIED:20230709T181441Z
UID:23956-1788688800-1788699600@www.lymmrugby.co.uk
SUMMARY:Social Tennis
DESCRIPTION:Social tennis will take place on the new courts from 1pm until 4pm on Saturday\, 10am until 1pm on Sundays and 5pm until 7pm on Monday and will continue as weekly events. \nSocial Tennis is a relaxed & friendly format for all abilities and particularly as an introduction for new players or those who have not played for years.
URL:https://www.lymmrugby.co.uk/event/social-tennis/2026-09-06/
LOCATION:Lymm RFC\, Crouchley Ln\, Lymm\, WA13 0AS\, United Kingdom
CATEGORIES:Tennis
ATTACH;FMTTYPE=image/jpeg:https://www.lymmrugby.co.uk/wp-content/uploads/2021/03/Tennis-Racket-2.jpg
END:VEVENT
BEGIN:VEVENT
DTSTART;TZID=Europe/London:20260907T170000
DTEND;TZID=Europe/London:20260907T190000
DTSTAMP:20260425T120856
CREATED:20230709T181441Z
LAST-MODIFIED:20230709T181441Z
UID:23957-1788800400-1788807600@www.lymmrugby.co.uk
SUMMARY:Social Tennis
DESCRIPTION:Social tennis will take place on the new courts from 1pm until 4pm on Saturday\, 10am until 1pm on Sundays and 5pm until 7pm on Monday and will continue as weekly events. \nSocial Tennis is a relaxed & friendly format for all abilities and particularly as an introduction for new players or those who have not played for years.
URL:https://www.lymmrugby.co.uk/event/social-tennis/2026-09-07/
LOCATION:Lymm RFC\, Crouchley Ln\, Lymm\, WA13 0AS\, United Kingdom
CATEGORIES:Tennis
ATTACH;FMTTYPE=image/jpeg:https://www.lymmrugby.co.uk/wp-content/uploads/2021/03/Tennis-Racket-2.jpg
END:VEVENT
BEGIN:VEVENT
DTSTART;TZID=Europe/London:20260909T153000
DTEND;TZID=Europe/London:20260909T203000
DTSTAMP:20260425T120856
CREATED:20241228T140249Z
LAST-MODIFIED:20241228T140249Z
UID:24199-1788967800-1788985800@www.lymmrugby.co.uk
SUMMARY:Tennis Training
DESCRIPTION:Coaching for both members & non-members is currently only on Wednesdays. \nUnder 7’s (YOUTH RED) at 3:45 pm \nJunior Under 10 at 4:30 pm \n\n11 & Over (YOUTH YELLOW) at 5:15 pm\n\nAdult Improvers 6 pm\n\nAdult Team Training 7 pm.
URL:https://www.lymmrugby.co.uk/event/tennis-training-2025-09-10/2026-09-09/
LOCATION:Lymm RFC\, Crouchley Ln\, Lymm\, WA13 0AS\, United Kingdom
CATEGORIES:Tennis
ATTACH;FMTTYPE=image/png:https://www.lymmrugby.co.uk/wp-content/uploads/2024/03/Manor-Road-Tennis-Ball.png
END:VEVENT
BEGIN:VEVENT
DTSTART;TZID=Europe/London:20260912T130000
DTEND;TZID=Europe/London:20260912T160000
DTSTAMP:20260425T120856
CREATED:20230709T181441Z
LAST-MODIFIED:20230709T181441Z
UID:23958-1789218000-1789228800@www.lymmrugby.co.uk
SUMMARY:Social Tennis
DESCRIPTION:Social tennis will take place on the new courts from 1pm until 4pm on Saturday\, 10am until 1pm on Sundays and 5pm until 7pm on Monday and will continue as weekly events. \nSocial Tennis is a relaxed & friendly format for all abilities and particularly as an introduction for new players or those who have not played for years.
URL:https://www.lymmrugby.co.uk/event/social-tennis/2026-09-12/
LOCATION:Lymm RFC\, Crouchley Ln\, Lymm\, WA13 0AS\, United Kingdom
CATEGORIES:Tennis
ATTACH;FMTTYPE=image/jpeg:https://www.lymmrugby.co.uk/wp-content/uploads/2021/03/Tennis-Racket-2.jpg
END:VEVENT
BEGIN:VEVENT
DTSTART;TZID=Europe/London:20260913T100000
DTEND;TZID=Europe/London:20260913T130000
DTSTAMP:20260425T120856
CREATED:20230709T181441Z
LAST-MODIFIED:20230709T181441Z
UID:23959-1789293600-1789304400@www.lymmrugby.co.uk
SUMMARY:Social Tennis
DESCRIPTION:Social tennis will take place on the new courts from 1pm until 4pm on Saturday\, 10am until 1pm on Sundays and 5pm until 7pm on Monday and will continue as weekly events. \nSocial Tennis is a relaxed & friendly format for all abilities and particularly as an introduction for new players or those who have not played for years.
URL:https://www.lymmrugby.co.uk/event/social-tennis/2026-09-13/
LOCATION:Lymm RFC\, Crouchley Ln\, Lymm\, WA13 0AS\, United Kingdom
CATEGORIES:Tennis
ATTACH;FMTTYPE=image/jpeg:https://www.lymmrugby.co.uk/wp-content/uploads/2021/03/Tennis-Racket-2.jpg
END:VEVENT
BEGIN:VEVENT
DTSTART;TZID=Europe/London:20260914T170000
DTEND;TZID=Europe/London:20260914T190000
DTSTAMP:20260425T120856
CREATED:20230709T181441Z
LAST-MODIFIED:20230709T181441Z
UID:23960-1789405200-1789412400@www.lymmrugby.co.uk
SUMMARY:Social Tennis
DESCRIPTION:Social tennis will take place on the new courts from 1pm until 4pm on Saturday\, 10am until 1pm on Sundays and 5pm until 7pm on Monday and will continue as weekly events. \nSocial Tennis is a relaxed & friendly format for all abilities and particularly as an introduction for new players or those who have not played for years.
URL:https://www.lymmrugby.co.uk/event/social-tennis/2026-09-14/
LOCATION:Lymm RFC\, Crouchley Ln\, Lymm\, WA13 0AS\, United Kingdom
CATEGORIES:Tennis
ATTACH;FMTTYPE=image/jpeg:https://www.lymmrugby.co.uk/wp-content/uploads/2021/03/Tennis-Racket-2.jpg
END:VEVENT
BEGIN:VEVENT
DTSTART;TZID=Europe/London:20260916T153000
DTEND;TZID=Europe/London:20260916T203000
DTSTAMP:20260425T120856
CREATED:20241228T140249Z
LAST-MODIFIED:20241228T140249Z
UID:24200-1789572600-1789590600@www.lymmrugby.co.uk
SUMMARY:Tennis Training
DESCRIPTION:Coaching for both members & non-members is currently only on Wednesdays. \nUnder 7’s (YOUTH RED) at 3:45 pm \nJunior Under 10 at 4:30 pm \n\n11 & Over (YOUTH YELLOW) at 5:15 pm\n\nAdult Improvers 6 pm\n\nAdult Team Training 7 pm.
URL:https://www.lymmrugby.co.uk/event/tennis-training-2025-09-10/2026-09-16/
LOCATION:Lymm RFC\, Crouchley Ln\, Lymm\, WA13 0AS\, United Kingdom
CATEGORIES:Tennis
ATTACH;FMTTYPE=image/png:https://www.lymmrugby.co.uk/wp-content/uploads/2024/03/Manor-Road-Tennis-Ball.png
END:VEVENT
BEGIN:VEVENT
DTSTART;TZID=Europe/London:20260919T130000
DTEND;TZID=Europe/London:20260919T160000
DTSTAMP:20260425T120856
CREATED:20230709T181441Z
LAST-MODIFIED:20230709T181441Z
UID:23961-1789822800-1789833600@www.lymmrugby.co.uk
SUMMARY:Social Tennis
DESCRIPTION:Social tennis will take place on the new courts from 1pm until 4pm on Saturday\, 10am until 1pm on Sundays and 5pm until 7pm on Monday and will continue as weekly events. \nSocial Tennis is a relaxed & friendly format for all abilities and particularly as an introduction for new players or those who have not played for years.
URL:https://www.lymmrugby.co.uk/event/social-tennis/2026-09-19/
LOCATION:Lymm RFC\, Crouchley Ln\, Lymm\, WA13 0AS\, United Kingdom
CATEGORIES:Tennis
ATTACH;FMTTYPE=image/jpeg:https://www.lymmrugby.co.uk/wp-content/uploads/2021/03/Tennis-Racket-2.jpg
END:VEVENT
BEGIN:VEVENT
DTSTART;TZID=Europe/London:20260920T100000
DTEND;TZID=Europe/London:20260920T130000
DTSTAMP:20260425T120856
CREATED:20230709T181441Z
LAST-MODIFIED:20230709T181441Z
UID:23962-1789898400-1789909200@www.lymmrugby.co.uk
SUMMARY:Social Tennis
DESCRIPTION:Social tennis will take place on the new courts from 1pm until 4pm on Saturday\, 10am until 1pm on Sundays and 5pm until 7pm on Monday and will continue as weekly events. \nSocial Tennis is a relaxed & friendly format for all abilities and particularly as an introduction for new players or those who have not played for years.
URL:https://www.lymmrugby.co.uk/event/social-tennis/2026-09-20/
LOCATION:Lymm RFC\, Crouchley Ln\, Lymm\, WA13 0AS\, United Kingdom
CATEGORIES:Tennis
ATTACH;FMTTYPE=image/jpeg:https://www.lymmrugby.co.uk/wp-content/uploads/2021/03/Tennis-Racket-2.jpg
END:VEVENT
BEGIN:VEVENT
DTSTART;TZID=Europe/London:20260921T170000
DTEND;TZID=Europe/London:20260921T190000
DTSTAMP:20260425T120856
CREATED:20230709T181441Z
LAST-MODIFIED:20230709T181441Z
UID:23963-1790010000-1790017200@www.lymmrugby.co.uk
SUMMARY:Social Tennis
DESCRIPTION:Social tennis will take place on the new courts from 1pm until 4pm on Saturday\, 10am until 1pm on Sundays and 5pm until 7pm on Monday and will continue as weekly events. \nSocial Tennis is a relaxed & friendly format for all abilities and particularly as an introduction for new players or those who have not played for years.
URL:https://www.lymmrugby.co.uk/event/social-tennis/2026-09-21/
LOCATION:Lymm RFC\, Crouchley Ln\, Lymm\, WA13 0AS\, United Kingdom
CATEGORIES:Tennis
ATTACH;FMTTYPE=image/jpeg:https://www.lymmrugby.co.uk/wp-content/uploads/2021/03/Tennis-Racket-2.jpg
END:VEVENT
BEGIN:VEVENT
DTSTART;TZID=Europe/London:20260923T153000
DTEND;TZID=Europe/London:20260923T203000
DTSTAMP:20260425T120856
CREATED:20241228T140249Z
LAST-MODIFIED:20241228T140249Z
UID:24201-1790177400-1790195400@www.lymmrugby.co.uk
SUMMARY:Tennis Training
DESCRIPTION:Coaching for both members & non-members is currently only on Wednesdays. \nUnder 7’s (YOUTH RED) at 3:45 pm \nJunior Under 10 at 4:30 pm \n\n11 & Over (YOUTH YELLOW) at 5:15 pm\n\nAdult Improvers 6 pm\n\nAdult Team Training 7 pm.
URL:https://www.lymmrugby.co.uk/event/tennis-training-2025-09-10/2026-09-23/
LOCATION:Lymm RFC\, Crouchley Ln\, Lymm\, WA13 0AS\, United Kingdom
CATEGORIES:Tennis
ATTACH;FMTTYPE=image/png:https://www.lymmrugby.co.uk/wp-content/uploads/2024/03/Manor-Road-Tennis-Ball.png
END:VEVENT
BEGIN:VEVENT
DTSTART;TZID=Europe/London:20260926T130000
DTEND;TZID=Europe/London:20260926T160000
DTSTAMP:20260425T120856
CREATED:20230709T181441Z
LAST-MODIFIED:20230709T181441Z
UID:23964-1790427600-1790438400@www.lymmrugby.co.uk
SUMMARY:Social Tennis
DESCRIPTION:Social tennis will take place on the new courts from 1pm until 4pm on Saturday\, 10am until 1pm on Sundays and 5pm until 7pm on Monday and will continue as weekly events. \nSocial Tennis is a relaxed & friendly format for all abilities and particularly as an introduction for new players or those who have not played for years.
URL:https://www.lymmrugby.co.uk/event/social-tennis/2026-09-26/
LOCATION:Lymm RFC\, Crouchley Ln\, Lymm\, WA13 0AS\, United Kingdom
CATEGORIES:Tennis
ATTACH;FMTTYPE=image/jpeg:https://www.lymmrugby.co.uk/wp-content/uploads/2021/03/Tennis-Racket-2.jpg
END:VEVENT
BEGIN:VEVENT
DTSTART;TZID=Europe/London:20260927T100000
DTEND;TZID=Europe/London:20260927T130000
DTSTAMP:20260425T120857
CREATED:20230709T181441Z
LAST-MODIFIED:20230709T181441Z
UID:23965-1790503200-1790514000@www.lymmrugby.co.uk
SUMMARY:Social Tennis
DESCRIPTION:Social tennis will take place on the new courts from 1pm until 4pm on Saturday\, 10am until 1pm on Sundays and 5pm until 7pm on Monday and will continue as weekly events. \nSocial Tennis is a relaxed & friendly format for all abilities and particularly as an introduction for new players or those who have not played for years.
URL:https://www.lymmrugby.co.uk/event/social-tennis/2026-09-27/
LOCATION:Lymm RFC\, Crouchley Ln\, Lymm\, WA13 0AS\, United Kingdom
CATEGORIES:Tennis
ATTACH;FMTTYPE=image/jpeg:https://www.lymmrugby.co.uk/wp-content/uploads/2021/03/Tennis-Racket-2.jpg
END:VEVENT
BEGIN:VEVENT
DTSTART;TZID=Europe/London:20260928T170000
DTEND;TZID=Europe/London:20260928T190000
DTSTAMP:20260425T120857
CREATED:20230709T181441Z
LAST-MODIFIED:20230709T181441Z
UID:23966-1790614800-1790622000@www.lymmrugby.co.uk
SUMMARY:Social Tennis
DESCRIPTION:Social tennis will take place on the new courts from 1pm until 4pm on Saturday\, 10am until 1pm on Sundays and 5pm until 7pm on Monday and will continue as weekly events. \nSocial Tennis is a relaxed & friendly format for all abilities and particularly as an introduction for new players or those who have not played for years.
URL:https://www.lymmrugby.co.uk/event/social-tennis/2026-09-28/
LOCATION:Lymm RFC\, Crouchley Ln\, Lymm\, WA13 0AS\, United Kingdom
CATEGORIES:Tennis
ATTACH;FMTTYPE=image/jpeg:https://www.lymmrugby.co.uk/wp-content/uploads/2021/03/Tennis-Racket-2.jpg
END:VEVENT
BEGIN:VEVENT
DTSTART;TZID=Europe/London:20260930T153000
DTEND;TZID=Europe/London:20260930T203000
DTSTAMP:20260425T120857
CREATED:20241228T140249Z
LAST-MODIFIED:20241228T140249Z
UID:24202-1790782200-1790800200@www.lymmrugby.co.uk
SUMMARY:Tennis Training
DESCRIPTION:Coaching for both members & non-members is currently only on Wednesdays. \nUnder 7’s (YOUTH RED) at 3:45 pm \nJunior Under 10 at 4:30 pm \n\n11 & Over (YOUTH YELLOW) at 5:15 pm\n\nAdult Improvers 6 pm\n\nAdult Team Training 7 pm.
URL:https://www.lymmrugby.co.uk/event/tennis-training-2025-09-10/2026-09-30/
LOCATION:Lymm RFC\, Crouchley Ln\, Lymm\, WA13 0AS\, United Kingdom
CATEGORIES:Tennis
ATTACH;FMTTYPE=image/png:https://www.lymmrugby.co.uk/wp-content/uploads/2024/03/Manor-Road-Tennis-Ball.png
END:VEVENT
BEGIN:VEVENT
DTSTART;TZID=Europe/London:20261003T130000
DTEND;TZID=Europe/London:20261003T160000
DTSTAMP:20260425T120857
CREATED:20230709T181441Z
LAST-MODIFIED:20230709T181441Z
UID:23967-1791032400-1791043200@www.lymmrugby.co.uk
SUMMARY:Social Tennis
DESCRIPTION:Social tennis will take place on the new courts from 1pm until 4pm on Saturday\, 10am until 1pm on Sundays and 5pm until 7pm on Monday and will continue as weekly events. \nSocial Tennis is a relaxed & friendly format for all abilities and particularly as an introduction for new players or those who have not played for years.
URL:https://www.lymmrugby.co.uk/event/social-tennis/2026-10-03/
LOCATION:Lymm RFC\, Crouchley Ln\, Lymm\, WA13 0AS\, United Kingdom
CATEGORIES:Tennis
ATTACH;FMTTYPE=image/jpeg:https://www.lymmrugby.co.uk/wp-content/uploads/2021/03/Tennis-Racket-2.jpg
END:VEVENT
BEGIN:VEVENT
DTSTART;TZID=Europe/London:20261004T100000
DTEND;TZID=Europe/London:20261004T130000
DTSTAMP:20260425T120857
CREATED:20230709T181441Z
LAST-MODIFIED:20230709T181441Z
UID:23968-1791108000-1791118800@www.lymmrugby.co.uk
SUMMARY:Social Tennis
DESCRIPTION:Social tennis will take place on the new courts from 1pm until 4pm on Saturday\, 10am until 1pm on Sundays and 5pm until 7pm on Monday and will continue as weekly events. \nSocial Tennis is a relaxed & friendly format for all abilities and particularly as an introduction for new players or those who have not played for years.
URL:https://www.lymmrugby.co.uk/event/social-tennis/2026-10-04/
LOCATION:Lymm RFC\, Crouchley Ln\, Lymm\, WA13 0AS\, United Kingdom
CATEGORIES:Tennis
ATTACH;FMTTYPE=image/jpeg:https://www.lymmrugby.co.uk/wp-content/uploads/2021/03/Tennis-Racket-2.jpg
END:VEVENT
BEGIN:VEVENT
DTSTART;TZID=Europe/London:20261005T170000
DTEND;TZID=Europe/London:20261005T190000
DTSTAMP:20260425T120857
CREATED:20230709T181441Z
LAST-MODIFIED:20230709T181441Z
UID:23969-1791219600-1791226800@www.lymmrugby.co.uk
SUMMARY:Social Tennis
DESCRIPTION:Social tennis will take place on the new courts from 1pm until 4pm on Saturday\, 10am until 1pm on Sundays and 5pm until 7pm on Monday and will continue as weekly events. \nSocial Tennis is a relaxed & friendly format for all abilities and particularly as an introduction for new players or those who have not played for years.
URL:https://www.lymmrugby.co.uk/event/social-tennis/2026-10-05/
LOCATION:Lymm RFC\, Crouchley Ln\, Lymm\, WA13 0AS\, United Kingdom
CATEGORIES:Tennis
ATTACH;FMTTYPE=image/jpeg:https://www.lymmrugby.co.uk/wp-content/uploads/2021/03/Tennis-Racket-2.jpg
END:VEVENT
BEGIN:VEVENT
DTSTART;TZID=Europe/London:20261007T153000
DTEND;TZID=Europe/London:20261007T203000
DTSTAMP:20260425T120857
CREATED:20241228T140249Z
LAST-MODIFIED:20241228T140249Z
UID:24203-1791387000-1791405000@www.lymmrugby.co.uk
SUMMARY:Tennis Training
DESCRIPTION:Coaching for both members & non-members is currently only on Wednesdays. \nUnder 7’s (YOUTH RED) at 3:45 pm \nJunior Under 10 at 4:30 pm \n\n11 & Over (YOUTH YELLOW) at 5:15 pm\n\nAdult Improvers 6 pm\n\nAdult Team Training 7 pm.
URL:https://www.lymmrugby.co.uk/event/tennis-training-2025-09-10/2026-10-07/
LOCATION:Lymm RFC\, Crouchley Ln\, Lymm\, WA13 0AS\, United Kingdom
CATEGORIES:Tennis
ATTACH;FMTTYPE=image/png:https://www.lymmrugby.co.uk/wp-content/uploads/2024/03/Manor-Road-Tennis-Ball.png
END:VEVENT
BEGIN:VEVENT
DTSTART;TZID=Europe/London:20261010T130000
DTEND;TZID=Europe/London:20261010T160000
DTSTAMP:20260425T120857
CREATED:20230709T181441Z
LAST-MODIFIED:20230709T181441Z
UID:23970-1791637200-1791648000@www.lymmrugby.co.uk
SUMMARY:Social Tennis
DESCRIPTION:Social tennis will take place on the new courts from 1pm until 4pm on Saturday\, 10am until 1pm on Sundays and 5pm until 7pm on Monday and will continue as weekly events. \nSocial Tennis is a relaxed & friendly format for all abilities and particularly as an introduction for new players or those who have not played for years.
URL:https://www.lymmrugby.co.uk/event/social-tennis/2026-10-10/
LOCATION:Lymm RFC\, Crouchley Ln\, Lymm\, WA13 0AS\, United Kingdom
CATEGORIES:Tennis
ATTACH;FMTTYPE=image/jpeg:https://www.lymmrugby.co.uk/wp-content/uploads/2021/03/Tennis-Racket-2.jpg
END:VEVENT
BEGIN:VEVENT
DTSTART;TZID=Europe/London:20261011T100000
DTEND;TZID=Europe/London:20261011T130000
DTSTAMP:20260425T120857
CREATED:20230709T181441Z
LAST-MODIFIED:20230709T181441Z
UID:23971-1791712800-1791723600@www.lymmrugby.co.uk
SUMMARY:Social Tennis
DESCRIPTION:Social tennis will take place on the new courts from 1pm until 4pm on Saturday\, 10am until 1pm on Sundays and 5pm until 7pm on Monday and will continue as weekly events. \nSocial Tennis is a relaxed & friendly format for all abilities and particularly as an introduction for new players or those who have not played for years.
URL:https://www.lymmrugby.co.uk/event/social-tennis/2026-10-11/
LOCATION:Lymm RFC\, Crouchley Ln\, Lymm\, WA13 0AS\, United Kingdom
CATEGORIES:Tennis
ATTACH;FMTTYPE=image/jpeg:https://www.lymmrugby.co.uk/wp-content/uploads/2021/03/Tennis-Racket-2.jpg
END:VEVENT
BEGIN:VEVENT
DTSTART;TZID=Europe/London:20261012T170000
DTEND;TZID=Europe/London:20261012T190000
DTSTAMP:20260425T120857
CREATED:20230709T181441Z
LAST-MODIFIED:20230709T181441Z
UID:23972-1791824400-1791831600@www.lymmrugby.co.uk
SUMMARY:Social Tennis
DESCRIPTION:Social tennis will take place on the new courts from 1pm until 4pm on Saturday\, 10am until 1pm on Sundays and 5pm until 7pm on Monday and will continue as weekly events. \nSocial Tennis is a relaxed & friendly format for all abilities and particularly as an introduction for new players or those who have not played for years.
URL:https://www.lymmrugby.co.uk/event/social-tennis/2026-10-12/
LOCATION:Lymm RFC\, Crouchley Ln\, Lymm\, WA13 0AS\, United Kingdom
CATEGORIES:Tennis
ATTACH;FMTTYPE=image/jpeg:https://www.lymmrugby.co.uk/wp-content/uploads/2021/03/Tennis-Racket-2.jpg
END:VEVENT
BEGIN:VEVENT
DTSTART;TZID=Europe/London:20261014T153000
DTEND;TZID=Europe/London:20261014T203000
DTSTAMP:20260425T120857
CREATED:20241228T140249Z
LAST-MODIFIED:20241228T140249Z
UID:24204-1791991800-1792009800@www.lymmrugby.co.uk
SUMMARY:Tennis Training
DESCRIPTION:Coaching for both members & non-members is currently only on Wednesdays. \nUnder 7’s (YOUTH RED) at 3:45 pm \nJunior Under 10 at 4:30 pm \n\n11 & Over (YOUTH YELLOW) at 5:15 pm\n\nAdult Improvers 6 pm\n\nAdult Team Training 7 pm.
URL:https://www.lymmrugby.co.uk/event/tennis-training-2025-09-10/2026-10-14/
LOCATION:Lymm RFC\, Crouchley Ln\, Lymm\, WA13 0AS\, United Kingdom
CATEGORIES:Tennis
ATTACH;FMTTYPE=image/png:https://www.lymmrugby.co.uk/wp-content/uploads/2024/03/Manor-Road-Tennis-Ball.png
END:VEVENT
BEGIN:VEVENT
DTSTART;TZID=Europe/London:20261017T130000
DTEND;TZID=Europe/London:20261017T160000
DTSTAMP:20260425T120857
CREATED:20230709T181441Z
LAST-MODIFIED:20230709T181441Z
UID:23973-1792242000-1792252800@www.lymmrugby.co.uk
SUMMARY:Social Tennis
DESCRIPTION:Social tennis will take place on the new courts from 1pm until 4pm on Saturday\, 10am until 1pm on Sundays and 5pm until 7pm on Monday and will continue as weekly events. \nSocial Tennis is a relaxed & friendly format for all abilities and particularly as an introduction for new players or those who have not played for years.
URL:https://www.lymmrugby.co.uk/event/social-tennis/2026-10-17/
LOCATION:Lymm RFC\, Crouchley Ln\, Lymm\, WA13 0AS\, United Kingdom
CATEGORIES:Tennis
ATTACH;FMTTYPE=image/jpeg:https://www.lymmrugby.co.uk/wp-content/uploads/2021/03/Tennis-Racket-2.jpg
END:VEVENT
BEGIN:VEVENT
DTSTART;TZID=Europe/London:20261018T100000
DTEND;TZID=Europe/London:20261018T130000
DTSTAMP:20260425T120857
CREATED:20230709T181441Z
LAST-MODIFIED:20230709T181441Z
UID:23974-1792317600-1792328400@www.lymmrugby.co.uk
SUMMARY:Social Tennis
DESCRIPTION:Social tennis will take place on the new courts from 1pm until 4pm on Saturday\, 10am until 1pm on Sundays and 5pm until 7pm on Monday and will continue as weekly events. \nSocial Tennis is a relaxed & friendly format for all abilities and particularly as an introduction for new players or those who have not played for years.
URL:https://www.lymmrugby.co.uk/event/social-tennis/2026-10-18/
LOCATION:Lymm RFC\, Crouchley Ln\, Lymm\, WA13 0AS\, United Kingdom
CATEGORIES:Tennis
ATTACH;FMTTYPE=image/jpeg:https://www.lymmrugby.co.uk/wp-content/uploads/2021/03/Tennis-Racket-2.jpg
END:VEVENT
END:VCALENDAR