BEGIN:VCALENDAR
VERSION:2.0
PRODID:-//Lymm RFC - ECPv6.15.20//NONSGML v1.0//EN
CALSCALE:GREGORIAN
METHOD:PUBLISH
X-ORIGINAL-URL:https://www.lymmrugby.co.uk
X-WR-CALDESC:Events for Lymm RFC
REFRESH-INTERVAL;VALUE=DURATION:PT1H
X-Robots-Tag:noindex
X-PUBLISHED-TTL:PT1H
BEGIN:VTIMEZONE
TZID:Europe/London
BEGIN:DAYLIGHT
TZOFFSETFROM:+0000
TZOFFSETTO:+0100
TZNAME:BST
DTSTART:20220327T010000
END:DAYLIGHT
BEGIN:STANDARD
TZOFFSETFROM:+0100
TZOFFSETTO:+0000
TZNAME:GMT
DTSTART:20221030T010000
END:STANDARD
BEGIN:DAYLIGHT
TZOFFSETFROM:+0000
TZOFFSETTO:+0100
TZNAME:BST
DTSTART:20230326T010000
END:DAYLIGHT
BEGIN:STANDARD
TZOFFSETFROM:+0100
TZOFFSETTO:+0000
TZNAME:GMT
DTSTART:20231029T010000
END:STANDARD
BEGIN:DAYLIGHT
TZOFFSETFROM:+0000
TZOFFSETTO:+0100
TZNAME:BST
DTSTART:20240331T010000
END:DAYLIGHT
BEGIN:STANDARD
TZOFFSETFROM:+0100
TZOFFSETTO:+0000
TZNAME:GMT
DTSTART:20241027T010000
END:STANDARD
BEGIN:DAYLIGHT
TZOFFSETFROM:+0000
TZOFFSETTO:+0100
TZNAME:BST
DTSTART:20250330T010000
END:DAYLIGHT
BEGIN:STANDARD
TZOFFSETFROM:+0100
TZOFFSETTO:+0000
TZNAME:GMT
DTSTART:20251026T010000
END:STANDARD
END:VTIMEZONE
BEGIN:VEVENT
DTSTART;TZID=Europe/London:20240915T140000
DTEND;TZID=Europe/London:20240915T170000
DTSTAMP:20260421T144905
CREATED:20240711T100232Z
LAST-MODIFIED:20240711T100232Z
UID:18164-1726408800-1726419600@www.lymmrugby.co.uk
SUMMARY:Senior Colts v Ormskirk (Away)
DESCRIPTION:
URL:https://www.lymmrugby.co.uk/event/senior-colts-v-ormskirk-away/
LOCATION:Ormskirk RFC\, Green Lane\, Ormskirk\, Lancashire\, L39 1ND\, United Kingdom
CATEGORIES:Rugby Fixture
ATTACH;FMTTYPE=image/jpeg:https://www.lymmrugby.co.uk/wp-content/uploads/2024/07/Senior-Colts-Logo.jpg
ORGANIZER;CN="Martin Henderson":MAILTO:mrtnhenderson@sky.com
END:VEVENT
BEGIN:VEVENT
DTSTART;TZID=Europe/London:20230924T123000
DTEND;TZID=Europe/London:20230924T150000
DTSTAMP:20260421T144905
CREATED:20230712T135049Z
LAST-MODIFIED:20230712T135049Z
UID:13166-1695558600-1695567600@www.lymmrugby.co.uk
SUMMARY:Junior Colts v Ormskirk (A)
DESCRIPTION:Junior Colts v Ormskirk – Away – KO: 12:30pm
URL:https://www.lymmrugby.co.uk/event/junior-colts-v-ormskirk-a/
LOCATION:Ormskirk RFC\, Green Lane\, Ormskirk\, Lancashire\, L39 1ND\, United Kingdom
CATEGORIES:Rugby Fixture
ATTACH;FMTTYPE=image/jpeg:https://www.lymmrugby.co.uk/wp-content/uploads/2023/07/Junior-Colts-Logo.jpg
ORGANIZER;CN="Martin Henderson":MAILTO:mrtnhenderson@sky.com
END:VEVENT
END:VCALENDAR